Workbook

Sheet Pildymo vadovas
A1: Mokyklos pavadinimas | I1: Raudona spalva – rodiklis nebūdingas mokyklai arba neaktualus dėl mokyklos tipo, specifikos, vietovės, kurioje yra mokykla ir kitų priežasčių.
A2: TVARIŲ MOKYKLŲ ĮSIVERTINIMO LAPAS | I2: Geltona spalva – rodiklis iš dalies būdingas mokyklai, tačiau yra galimybių ir iniciatyvų tobulinimui. Mokykla numato siekti rodiklio įgyvendinimo jo gerinimo linkme.
A3: Data | I3: Žalia spalva – rodiklis įgyvendintas mokykloje, yra teigiamų patirčių.
A4: 1 sritis. Išteklių tausojimas ir prieinamumas | C4: STATUSAS
A5: 1 kriterijus: ENERGIJOS NAUDOJIMAS | H5: ATASKAITA
B6: Vadovaujamasi energijos vartojimo audito, kuris atnaujinamas kartą per 5 metus, išvadomis. | I6: Neaktualu | J6: Tobulintina | K6: Įgyvendinta
B7: Mokykla turi pastato energetinio efektyvumo (žaliojo pastato) sertifikatą. | H7: 1 sritis | I7: =COUNTIF(C6:E39,"NEAKTUALU") -> 0 | J7: =COUNTIF(C6:E39,"TOBULINTINA") -> 0 | K7: =COUNTIF(C6:E39,"ĮGYVENDINTA") -> 0 | L7: =IF(K7>=2, "PUIKU", "")
B8: Mokykla turi energetinių rodiklių viziją ir planą. | H8: 2 sritis | I8: =COUNTIF(C41:E71,"NEAKTUALU") -> 0 | J8: =COUNTIF(C41:E71,"TOBULINTINA") -> 0 | K8: =COUNTIF(C41:E71,"ĮGYVENDINTA") -> 0 | L8: =IF(K8>=2, "OK", "")
B9: Ne mažiau 50 proc. naudojamos energijos yra iš atsinaujinančių energijos šaltinių (saulės, vėjo, biokuro, geoterminė ir kt.). Mokykla įsirengia savo jėgainę arba naudoja nuotolines. | H9: 3 sritis | I9: =COUNTIF(C73:E91,"NEAKTUALU") -> 0 | J9: =COUNTIF(C73:E91,"TOBULINTINA") -> 0 | K9: =COUNTIF(C73:E91,"ĮGYVENDINTA") -> 0 | L9: =IF(K9>=2, "OK", "")
A10: 2 kriterijus: ENERGETIKOS STEBĖSENA | H10: 4 sritis | I10: =COUNTIF(C94:E119,"NEAKTUALU") -> 0 | J10: =COUNTIF(C94:E119,"TOBULINTINA") -> 0 | K10: =COUNTIF(C94:E119,"ĮGYVENDINTA") -> 0 | L10: =IF(K10>=2, "OK", "")
B11: Atliekama energetikos ūkio tvarumo stebėsena, vertinami pokyčiai. | H11: 5 sritis | I11: =COUNTIF(C122:E142,"NEAKTUALU") -> 0 | J11: =COUNTIF(C122:E142,"TOBULINTINA") -> 0 | K11: =COUNTIF(C122:E142,"ĮGYVENDINTA") -> 0 | L11: =IF(K11>=2, "OK", "")
B12: Viešose erdvėse švieslentėse/monitoriuose, internete skelbiama informacija apie mokyklos energetinius rodiklius ir jų efektyvumo pokyčius. Mokiniai įtraukti į stebėseną (CO2 matuokliai, termometrai ir kt.). | H12: 6 sritis | I12: =COUNTIF(C145:E182,"NEAKTUALU") -> 0 | J12: =COUNTIF(C145:E182,"TOBULINTINA") -> 0 | K12: =COUNTIF(C145:E182,"ĮGYVENDINTA") -> 0 | L12: =IF(K12>=2, "OK", "")
A13: 3 kriterijus: PATALPŲ MIKROKLIMATAS | H13: 7 sritis | I13: =COUNTIF(C185:E213,"NEAKTUALU") -> 0 | J13: =COUNTIF(C185:E213,"TOBULINTINA") -> 0 | K13: =COUNTIF(C185:E213,"ĮGYVENDINTA") -> 0 | L13: =IF(K13>=2, "OK", "")
B14: Visus metus palaikoma tinkama patalpų temperatūra ir oro kokybė. | H14: 8 sritis | I14: =COUNTIF(C216:E234,"NEAKTUALU") -> 0 | J14: =COUNTIF(C216:E234,"TOBULINTINA") -> 0 | K14: =COUNTIF(C216:E234,"ĮGYVENDINTA") -> 0 | L14: =IF(K14>=2, "OK", "")
B15: Įrengtas išmanusis šildymas, pagrindinėse šildymo ir vėsinimo zonose yra programuojami termostatai. Sukurta energijos taupymo tvarka/taisyklės mokykloje.
B16: Efektyviai apšildytos sienos, mažiausiai 75 proc. langų yra aukštos energinio efektyvumo klasės.
A17: 4 kriterijus: APŠVIETIMAS IR ELEKTROS ĮRANGA
B18: Įrengtas tvarus ir energiją taupantis lauko ir vidaus erdvių apšvietimas. Įdiegta išmani šviesų išjungimo ir reguliavimo sistema.
B19: Naudojami Saulės energijos lauko šviestuvai
B20: Naudojama energetiškai efektyvi ir tvari biuro, buitinė technika ir klasių įranga.
B21: Apšvietimas pritaikytas erdvės paskirtims, užtikrinantis gerą matomumą mokyklos teritorijoje ir patekimui į ją (skirtingų zonų – skirtingas apšvietimas pagal poreikį).
A22: 5 kriterijus: VANDENS PRIEINAMUMAS IR NAUDOJIMAS
B23: Naudojama vandenį taupanti įranga (čiaupai, tualetų bakeliai, dušai ir kt.).
B24: Teikiamas kokybiškas geriamasis vanduo, vykdoma stebėsena.
B25: Įrengti geriamojo vandens prieigos taškai (fontanėliai ir kt.). Skatinama naudotis asmeninėmis gertuvėmis.
B26: Valgyklos aplinkoje įrengti praustuvai, jų aplinka skatina higienos įpročius, rankų plovimą prieš valgį ir t.t.
B27: Mokyklos vandens apytakos sistema nuo vandens įvado iki kanalizacijos minimaliai tarši (apsaugota nuo chemikalų ir kt.).
A28: 6 kriterijus: ENERGETIKOS IR VANDENTVARKOS EDUKACIJOS INFRASTRUKTŪRA
B29: Mokiniams patrauklia forma įrengtos edukacinės priemonės supažindina su tvaria energija ir vandens taupymu.
B30: Įrengti ženklai ir plakatai, primenantys mokyklos bendruomenei apie vandens tausojimo svarbą.
A31: 7 kriterijus: BŪTINOSIOS HIGIENOS APLINKA
B32: Sudaryta galimybė bet kuriuo metu pasinaudoti dušu.
B33: Mokykloje įrengtos lyčiai neutralios higienos patalpos (unisex).
B34: Suteikiamos reikiamos higienos priemonės (pvz., įklotai) ir įrengta jų atliekų surinkimo sistema.
A35: 8 kriterijus: MAISTO GAMINIMO APLINKA
B36: Įrengtos erdvės viduje ir lauke, kur mokiniai gali maitintis savo užkandžiais. Sudarytos galimybės pasišildyti iš namų atsineštą maistą.
B37: Sudaryta galimybė mokytis maisto gaminimo technologijų, nepriklausomai nuo lyties ir amžiaus, formaliajame ir neformaliajame ugdyme.
B38: Mokyklos maisto ruošimo technologijų klasės aprūpintos šiuolaikine maisto gaminimo, pateikimo įranga ir priemonėmis, laikantis tvarumo reikalavimų (energetinė klasė, žaliasis pasirinkimas, nenaudojami vienkartiniai indai ir pan.).
A39: 9 kriterijus: KITI MOKYKLOS IŠTEKLIŲ TAUSOJIMO IR PRIEINAMUMO RODIKLIAI
A40: 2 sritis. Judumas | C40: STATUSAS
...

Sheet Įsivertinimo lapas
A1: Mokyklos pavadinimas | I1: Raudona spalva – rodiklis nebūdingas mokyklai arba neaktualus dėl mokyklos tipo, specifikos, vietovės, kurioje yra mokykla ir kitų priežasčių.
A2: TVARIŲ MOKYKLŲ ĮSIVERTINIMO LAPAS | I2: Geltona spalva – rodiklis iš dalies būdingas mokyklai, tačiau yra galimybių ir iniciatyvų tobulinimui. Mokykla numato siekti rodiklio įgyvendinimo jo gerinimo linkme.
A3: Data (2026 - mm - dd) | I3: Žalia spalva – rodiklis įgyvendintas mokykloje, yra teigiamų patirčių.
A4: 1 sritis. Išteklių tausojimas ir prieinamumas | C4: 2024 m. statusas | D4: 2026 m. statusas | E4: Pokytis
A5: 1 kriterijus: ENERGIJOS NAUDOJIMAS | H5: ATASKAITA
B6: Vadovaujamasi energijos vartojimo audito, kuris atnaujinamas kartą per 5 metus, išvadomis. | C6: =IFERROR(INDEX(paieska!$C$1:$C$600,MATCH(LEFT(SUBSTITUTE(SUBSTITUTE(SUBSTITUTE(SUBSTITUTE($B6,CHAR(10),""),CHAR(13),"")," ",""),CHAR(160),""),80),paieska!$A$1:$A$600,0)),IFERROR(INDEX(paieska!$C$1:$C$600,MATCH(LEFT(SUBSTITUTE(SUBSTITUTE(SUBSTITUTE(SUBSTITUTE($B6,CHAR(10),""),CHAR(13),"")," ",""),CHAR(160),""),80),paieska!$B$1:$B$600,0)),"")) | E6: =IF(OR(C6="",D6=""),"",CHOOSE(SIGN(((D6="ĮGYVENDINTA")*2+(D6="TOBULINTINA"))-((C6="ĮGYVENDINTA")*2+(C6="TOBULINTINA")))+2,"▼","=","▲")) | I6: 2024 m. (1-as įsivertinimas) | L6: 2026 m. (2-as įsivertinimas) | O6: POKYTIS
B7: Mokykla turi pastato energetinio efektyvumo (žaliojo pastato) sertifikatą. | C7: =IFERROR(INDEX(paieska!$C$1:$C$600,MATCH(LEFT(SUBSTITUTE(SUBSTITUTE(SUBSTITUTE(SUBSTITUTE($B7,CHAR(10),""),CHAR(13),"")," ",""),CHAR(160),""),80),paieska!$A$1:$A$600,0)),IFERROR(INDEX(paieska!$C$1:$C$600,MATCH(LEFT(SUBSTITUTE(SUBSTITUTE(SUBSTITUTE(SUBSTITUTE($B7,CHAR(10),""),CHAR(13),"")," ",""),CHAR(160),""),80),paieska!$B$1:$B$600,0)),"")) | E7: =IF(OR(C7="",D7=""),"",CHOOSE(SIGN(((D7="ĮGYVENDINTA")*2+(D7="TOBULINTINA"))-((C7="ĮGYVENDINTA")*2+(C7="TOBULINTINA")))+2,"▼","=","▲")) | H7: Sritis | I7: Neaktualu | J7: Tobulintina | K7: Įgyvendinta | L7: Neaktualu | M7: Tobulintina | N7: Įgyvendinta | O7: Įgyvendinta (+/−) | P7: Pagerėjo ▲ (rodikliai) | Q7: Pablogėjo ▼ (rodikliai)
B8: Mokykla turi energetinių rodiklių viziją ir planą. | C8: =IFERROR(INDEX(paieska!$C$1:$C$600,MATCH(LEFT(SUBSTITUTE(SUBSTITUTE(SUBSTITUTE(SUBSTITUTE($B8,CHAR(10),""),CHAR(13),"")," ",""),CHAR(160),""),80),paieska!$A$1:$A$600,0)),IFERROR(INDEX(paieska!$C$1:$C$600,MATCH(LEFT(SUBSTITUTE(SUBSTITUTE(SUBSTITUTE(SUBSTITUTE($B8,CHAR(10),""),CHAR(13),"")," ",""),CHAR(160),""),80),paieska!$B$1:$B$600,0)),"")) | E8: =IF(OR(C8="",D8=""),"",CHOOSE(SIGN(((D8="ĮGYVENDINTA")*2+(D8="TOBULINTINA"))-((C8="ĮGYVENDINTA")*2+(C8="TOBULINTINA")))+2,"▼","=","▲")) | H8: 1 sritis | I8: =COUNTIF(C6:C39,"NEAKTUALU") -> 0 | J8: =COUNTIF(C6:C39,"TOBULINTINA") -> 0 | K8: =COUNTIF(C6:C39,"ĮGYVENDINTA") -> 0 | L8: =COUNTIF(D6:D39,"NEAKTUALU") -> 0 | M8: =COUNTIF(D6:D39,"TOBULINTINA") -> 0 | N8: =COUNTIF(D6:D39,"ĮGYVENDINTA") -> 0 | O8: =IF(COUNTA(D6:D39)=0,"",N8-K8) | P8: =COUNTIF(E6:E39,"▲") -> 0 | Q8: =COUNTIF(E6:E39,"▼") -> 0
B9: Ne mažiau 50 proc. naudojamos energijos yra iš atsinaujinančių energijos šaltinių (saulės, vėjo, biokuro, geoterminė ir kt.). Mokykla įsirengia savo jėgainę arba naudoja nuotolines. | C9: =IFERROR(INDEX(paieska!$C$1:$C$600,MATCH(LEFT(SUBSTITUTE(SUBSTITUTE(SUBSTITUTE(SUBSTITUTE($B9,CHAR(10),""),CHAR(13),"")," ",""),CHAR(160),""),80),paieska!$A$1:$A$600,0)),IFERROR(INDEX(paieska!$C$1:$C$600,MATCH(LEFT(SUBSTITUTE(SUBSTITUTE(SUBSTITUTE(SUBSTITUTE($B9,CHAR(10),""),CHAR(13),"")," ",""),CHAR(160),""),80),paieska!$B$1:$B$600,0)),"")) | E9: =IF(OR(C9="",D9=""),"",CHOOSE(SIGN(((D9="ĮGYVENDINTA")*2+(D9="TOBULINTINA"))-((C9="ĮGYVENDINTA")*2+(C9="TOBULINTINA")))+2,"▼","=","▲")) | H9: 2 sritis | I9: =COUNTIF(C41:C71,"NEAKTUALU") -> 0 | J9: =COUNTIF(C41:C71,"TOBULINTINA") -> 0 | K9: =COUNTIF(C41:C71,"ĮGYVENDINTA") -> 0 | L9: =COUNTIF(D41:D71,"NEAKTUALU") -> 0 | M9: =COUNTIF(D41:D71,"TOBULINTINA") -> 0 | N9: =COUNTIF(D41:D71,"ĮGYVENDINTA") -> 0 | O9: =IF(COUNTA(D41:D71)=0,"",N9-K9) | P9: =COUNTIF(E41:E71,"▲") -> 0 | Q9: =COUNTIF(E41:E71,"▼") -> 0
A10: 2 kriterijus: ENERGETIKOS STEBĖSENA | H10: 3 sritis | I10: =COUNTIF(C73:C91,"NEAKTUALU") -> 0 | J10: =COUNTIF(C73:C91,"TOBULINTINA") -> 0 | K10: =COUNTIF(C73:C91,"ĮGYVENDINTA") -> 0 | L10: =COUNTIF(D73:D91,"NEAKTUALU") -> 0 | M10: =COUNTIF(D73:D91,"TOBULINTINA") -> 0 | N10: =COUNTIF(D73:D91,"ĮGYVENDINTA") -> 0 | O10: =IF(COUNTA(D73:D91)=0,"",N10-K10) | P10: =COUNTIF(E73:E91,"▲") -> 0 | Q10: =COUNTIF(E73:E91,"▼") -> 0
B11: Atliekama energetikos ūkio tvarumo stebėsena, vertinami pokyčiai. | C11: =IFERROR(INDEX(paieska!$C$1:$C$600,MATCH(LEFT(SUBSTITUTE(SUBSTITUTE(SUBSTITUTE(SUBSTITUTE($B11,CHAR(10),""),CHAR(13),"")," ",""),CHAR(160),""),80),paieska!$A$1:$A$600,0)),IFERROR(INDEX(paieska!$C$1:$C$600,MATCH(LEFT(SUBSTITUTE(SUBSTITUTE(SUBSTITUTE(SUBSTITUTE($B11,CHAR(10),""),CHAR(13),"")," ",""),CHAR(160),""),80),paieska!$B$1:$B$600,0)),"")) | E11: =IF(OR(C11="",D11=""),"",CHOOSE(SIGN(((D11="ĮGYVENDINTA")*2+(D11="TOBULINTINA"))-((C11="ĮGYVENDINTA")*2+(C11="TOBULINTINA")))+2,"▼","=","▲")) | H11: 4 sritis | I11: =COUNTIF(C93:C119,"NEAKTUALU") -> 0 | J11: =COUNTIF(C93:C119,"TOBULINTINA") -> 0 | K11: =COUNTIF(C93:C119,"ĮGYVENDINTA") -> 0 | L11: =COUNTIF(D93:D119,"NEAKTUALU") -> 0 | M11: =COUNTIF(D93:D119,"TOBULINTINA") -> 0 | N11: =COUNTIF(D93:D119,"ĮGYVENDINTA") -> 0 | O11: =IF(COUNTA(D93:D119)=0,"",N11-K11) | P11: =COUNTIF(E93:E119,"▲") -> 0 | Q11: =COUNTIF(E93:E119,"▼") -> 0
B12: Viešose erdvėse švieslentėse/monitoriuose, internete skelbiama informacija apie mokyklos energetinius rodiklius ir jų efektyvumo pokyčius. Mokiniai įtraukti į stebėseną (CO2 matuokliai, termometrai ir kt.). | C12: =IFERROR(INDEX(paieska!$C$1:$C$600,MATCH(LEFT(SUBSTITUTE(SUBSTITUTE(SUBSTITUTE(SUBSTITUTE($B12,CHAR(10),""),CHAR(13),"")," ",""),CHAR(160),""),80),paieska!$A$1:$A$600,0)),IFERROR(INDEX(paieska!$C$1:$C$600,MATCH(LEFT(SUBSTITUTE(SUBSTITUTE(SUBSTITUTE(SUBSTITUTE($B12,CHAR(10),""),CHAR(13),"")," ",""),CHAR(160),""),80),paieska!$B$1:$B$600,0)),"")) | E12: =IF(OR(C12="",D12=""),"",CHOOSE(SIGN(((D12="ĮGYVENDINTA")*2+(D12="TOBULINTINA"))-((C12="ĮGYVENDINTA")*2+(C12="TOBULINTINA")))+2,"▼","=","▲")) | H12: 5 sritis | I12: =COUNTIF(C121:C142,"NEAKTUALU") -> 0 | J12: =COUNTIF(C121:C142,"TOBULINTINA") -> 0 | K12: =COUNTIF(C121:C142,"ĮGYVENDINTA") -> 0 | L12: =COUNTIF(D121:D142,"NEAKTUALU") -> 0 | M12: =COUNTIF(D121:D142,"TOBULINTINA") -> 0 | N12: =COUNTIF(D121:D142,"ĮGYVENDINTA") -> 0 | O12: =IF(COUNTA(D121:D142)=0,"",N12-K12) | P12: =COUNTIF(E121:E142,"▲") -> 0 | Q12: =COUNTIF(E121:E142,"▼") -> 0
A13: 3 kriterijus: PATALPŲ MIKROKLIMATAS | H13: 6 sritis | I13: =COUNTIF(C144:C182,"NEAKTUALU") -> 0 | J13: =COUNTIF(C144:C182,"TOBULINTINA") -> 0 | K13: =COUNTIF(C144:C182,"ĮGYVENDINTA") -> 0 | L13: =COUNTIF(D144:D182,"NEAKTUALU") -> 0 | M13: =COUNTIF(D144:D182,"TOBULINTINA") -> 0 | N13: =COUNTIF(D144:D182,"ĮGYVENDINTA") -> 0 | O13: =IF(COUNTA(D144:D182)=0,"",N13-K13) | P13: =COUNTIF(E144:E182,"▲") -> 0 | Q13: =COUNTIF(E144:E182,"▼") -> 0
B14: Visus metus palaikoma tinkama patalpų temperatūra ir oro kokybė. | C14: =IFERROR(INDEX(paieska!$C$1:$C$600,MATCH(LEFT(SUBSTITUTE(SUBSTITUTE(SUBSTITUTE(SUBSTITUTE($B14,CHAR(10),""),CHAR(13),"")," ",""),CHAR(160),""),80),paieska!$A$1:$A$600,0)),IFERROR(INDEX(paieska!$C$1:$C$600,MATCH(LEFT(SUBSTITUTE(SUBSTITUTE(SUBSTITUTE(SUBSTITUTE($B14,CHAR(10),""),CHAR(13),"")," ",""),CHAR(160),""),80),paieska!$B$1:$B$600,0)),"")) | E14: =IF(OR(C14="",D14=""),"",CHOOSE(SIGN(((D14="ĮGYVENDINTA")*2+(D14="TOBULINTINA"))-((C14="ĮGYVENDINTA")*2+(C14="TOBULINTINA")))+2,"▼","=","▲")) | H14: 7 sritis | I14: =COUNTIF(C184:C213,"NEAKTUALU") -> 0 | J14: =COUNTIF(C184:C213,"TOBULINTINA") -> 0 | K14: =COUNTIF(C184:C213,"ĮGYVENDINTA") -> 0 | L14: =COUNTIF(D184:D213,"NEAKTUALU") -> 0 | M14: =COUNTIF(D184:D213,"TOBULINTINA") -> 0 | N14: =COUNTIF(D184:D213,"ĮGYVENDINTA") -> 0 | O14: =IF(COUNTA(D184:D213)=0,"",N14-K14) | P14: =COUNTIF(E184:E213,"▲") -> 0 | Q14: =COUNTIF(E184:E213,"▼") -> 0
B15: Įrengtas išmanusis šildymas, pagrindinėse šildymo ir vėsinimo zonose yra programuojami termostatai. Sukurta energijos taupymo tvarka/taisyklės mokykloje. | C15: =IFERROR(INDEX(paieska!$C$1:$C$600,MATCH(LEFT(SUBSTITUTE(SUBSTITUTE(SUBSTITUTE(SUBSTITUTE($B15,CHAR(10),""),CHAR(13),"")," ",""),CHAR(160),""),80),paieska!$A$1:$A$600,0)),IFERROR(INDEX(paieska!$C$1:$C$600,MATCH(LEFT(SUBSTITUTE(SUBSTITUTE(SUBSTITUTE(SUBSTITUTE($B15,CHAR(10),""),CHAR(13),"")," ",""),CHAR(160),""),80),paieska!$B$1:$B$600,0)),"")) | E15: =IF(OR(C15="",D15=""),"",CHOOSE(SIGN(((D15="ĮGYVENDINTA")*2+(D15="TOBULINTINA"))-((C15="ĮGYVENDINTA")*2+(C15="TOBULINTINA")))+2,"▼","=","▲")) | H15: 8 sritis | I15: =COUNTIF(C215:C234,"NEAKTUALU") -> 0 | J15: =COUNTIF(C215:C234,"TOBULINTINA") -> 0 | K15: =COUNTIF(C215:C234,"ĮGYVENDINTA") -> 0 | L15: =COUNTIF(D215:D234,"NEAKTUALU") -> 0 | M15: =COUNTIF(D215:D234,"TOBULINTINA") -> 0 | N15: =COUNTIF(D215:D234,"ĮGYVENDINTA") -> 0 | O15: =IF(COUNTA(D215:D234)=0,"",N15-K15) | P15: =COUNTIF(E215:E234,"▲") -> 0 | Q15: =COUNTIF(E215:E234,"▼") -> 0
B16: Efektyviai apšildytos sienos, mažiausiai 75 proc. langų yra aukštos energinio efektyvumo klasės. | C16: =IFERROR(INDEX(paieska!$C$1:$C$600,MATCH(LEFT(SUBSTITUTE(SUBSTITUTE(SUBSTITUTE(SUBSTITUTE($B16,CHAR(10),""),CHAR(13),"")," ",""),CHAR(160),""),80),paieska!$A$1:$A$600,0)),IFERROR(INDEX(paieska!$C$1:$C$600,MATCH(LEFT(SUBSTITUTE(SUBSTITUTE(SUBSTITUTE(SUBSTITUTE($B16,CHAR(10),""),CHAR(13),"")," ",""),CHAR(160),""),80),paieska!$B$1:$B$600,0)),"")) | E16: =IF(OR(C16="",D16=""),"",CHOOSE(SIGN(((D16="ĮGYVENDINTA")*2+(D16="TOBULINTINA"))-((C16="ĮGYVENDINTA")*2+(C16="TOBULINTINA")))+2,"▼","=","▲")) | H16: Iš viso | I16: =SUM(I8:I15) -> 0 | J16: =SUM(J8:J15) -> 0 | K16: =SUM(K8:K15) -> 0 | L16: =SUM(L8:L15) -> 0 | M16: =SUM(M8:M15) -> 0 | N16: =SUM(N8:N15) -> 0 | O16: =IF(COUNTA(D6:D234)=0,"",N16-K16) -> 0 | P16: =SUM(P8:P15) -> 0 | Q16: =SUM(Q8:Q15) -> 0
A17: 4 kriterijus: APŠVIETIMAS IR ELEKTROS ĮRANGA
B18: Įrengtas tvarus ir energiją taupantis lauko ir vidaus erdvių apšvietimas. Įdiegta išmani šviesų išjungimo ir reguliavimo sistema. | C18: =IFERROR(INDEX(paieska!$C$1:$C$600,MATCH(LEFT(SUBSTITUTE(SUBSTITUTE(SUBSTITUTE(SUBSTITUTE($B18,CHAR(10),""),CHAR(13),"")," ",""),CHAR(160),""),80),paieska!$A$1:$A$600,0)),IFERROR(INDEX(paieska!$C$1:$C$600,MATCH(LEFT(SUBSTITUTE(SUBSTITUTE(SUBSTITUTE(SUBSTITUTE($B18,CHAR(10),""),CHAR(13),"")," ",""),CHAR(160),""),80),paieska!$B$1:$B$600,0)),"")) | E18: =IF(OR(C18="",D18=""),"",CHOOSE(SIGN(((D18="ĮGYVENDINTA")*2+(D18="TOBULINTINA"))-((C18="ĮGYVENDINTA")*2+(C18="TOBULINTINA")))+2,"▼","=","▲")) | H18: Užpildyta | I18: =C235 -> 0 | L18: =D235 -> 0
B19: Naudojami Saulės energijos lauko šviestuvai | C19: =IFERROR(INDEX(paieska!$C$1:$C$600,MATCH(LEFT(SUBSTITUTE(SUBSTITUTE(SUBSTITUTE(SUBSTITUTE($B19,CHAR(10),""),CHAR(13),"")," ",""),CHAR(160),""),80),paieska!$A$1:$A$600,0)),IFERROR(INDEX(paieska!$C$1:$C$600,MATCH(LEFT(SUBSTITUTE(SUBSTITUTE(SUBSTITUTE(SUBSTITUTE($B19,CHAR(10),""),CHAR(13),"")," ",""),CHAR(160),""),80),paieska!$B$1:$B$600,0)),"")) | E19: =IF(OR(C19="",D19=""),"",CHOOSE(SIGN(((D19="ĮGYVENDINTA")*2+(D19="TOBULINTINA"))-((C19="ĮGYVENDINTA")*2+(C19="TOBULINTINA")))+2,"▼","=","▲"))
B20: Naudojama energetiškai efektyvi ir tvari biuro, buitinė technika ir klasių įranga. | C20: =IFERROR(INDEX(paieska!$C$1:$C$600,MATCH(LEFT(SUBSTITUTE(SUBSTITUTE(SUBSTITUTE(SUBSTITUTE($B20,CHAR(10),""),CHAR(13),"")," ",""),CHAR(160),""),80),paieska!$A$1:$A$600,0)),IFERROR(INDEX(paieska!$C$1:$C$600,MATCH(LEFT(SUBSTITUTE(SUBSTITUTE(SUBSTITUTE(SUBSTITUTE($B20,CHAR(10),""),CHAR(13),"")," ",""),CHAR(160),""),80),paieska!$B$1:$B$600,0)),"")) | E20: =IF(OR(C20="",D20=""),"",CHOOSE(SIGN(((D20="ĮGYVENDINTA")*2+(D20="TOBULINTINA"))-((C20="ĮGYVENDINTA")*2+(C20="TOBULINTINA")))+2,"▼","=","▲")) | H20: Kaip pildyti: stulpelis C – 2024 m. statusas. Jis užsipildo automatiškai, jei į lapą „2024 m. duomenys“ įklijuojate savo 2024 m. lentelę (arba pasirinkite iš sąrašo ranka). Stulpelis D – naujas 2026 m. statusas, pasirenkamas iš sąrašo. Stulpelis E rodo pokytį: ▲ pagerėjo, ▼ pablogėjo, = nepasikeitė. Ataskaitos lentelės pildyti nereikia – skaičiai susiskaičiuoja patys.
B21: Apšvietimas pritaikytas erdvės paskirtims, užtikrinantis gerą matomumą mokyklos teritorijoje ir patekimui į ją (skirtingų zonų – skirtingas apšvietimas pagal poreikį). | C21: =IFERROR(INDEX(paieska!$C$1:$C$600,MATCH(LEFT(SUBSTITUTE(SUBSTITUTE(SUBSTITUTE(SUBSTITUTE($B21,CHAR(10),""),CHAR(13),"")," ",""),CHAR(160),""),80),paieska!$A$1:$A$600,0)),IFERROR(INDEX(paieska!$C$1:$C$600,MATCH(LEFT(SUBSTITUTE(SUBSTITUTE(SUBSTITUTE(SUBSTITUTE($B21,CHAR(10),""),CHAR(13),"")," ",""),CHAR(160),""),80),paieska!$B$1:$B$600,0)),"")) | E21: =IF(OR(C21="",D21=""),"",CHOOSE(SIGN(((D21="ĮGYVENDINTA")*2+(D21="TOBULINTINA"))-((C21="ĮGYVENDINTA")*2+(C21="TOBULINTINA")))+2,"▼","=","▲"))
A22: 5 kriterijus: VANDENS PRIEINAMUMAS IR NAUDOJIMAS
B23: Naudojama vandenį taupanti įranga (čiaupai, tualetų bakeliai, dušai ir kt.). | C23: =IFERROR(INDEX(paieska!$C$1:$C$600,MATCH(LEFT(SUBSTITUTE(SUBSTITUTE(SUBSTITUTE(SUBSTITUTE($B23,CHAR(10),""),CHAR(13),"")," ",""),CHAR(160),""),80),paieska!$A$1:$A$600,0)),IFERROR(INDEX(paieska!$C$1:$C$600,MATCH(LEFT(SUBSTITUTE(SUBSTITUTE(SUBSTITUTE(SUBSTITUTE($B23,CHAR(10),""),CHAR(13),"")," ",""),CHAR(160),""),80),paieska!$B$1:$B$600,0)),"")) | E23: =IF(OR(C23="",D23=""),"",CHOOSE(SIGN(((D23="ĮGYVENDINTA")*2+(D23="TOBULINTINA"))-((C23="ĮGYVENDINTA")*2+(C23="TOBULINTINA")))+2,"▼","=","▲"))
B24: Teikiamas kokybiškas geriamasis vanduo, vykdoma stebėsena. | C24: =IFERROR(INDEX(paieska!$C$1:$C$600,MATCH(LEFT(SUBSTITUTE(SUBSTITUTE(SUBSTITUTE(SUBSTITUTE($B24,CHAR(10),""),CHAR(13),"")," ",""),CHAR(160),""),80),paieska!$A$1:$A$600,0)),IFERROR(INDEX(paieska!$C$1:$C$600,MATCH(LEFT(SUBSTITUTE(SUBSTITUTE(SUBSTITUTE(SUBSTITUTE($B24,CHAR(10),""),CHAR(13),"")," ",""),CHAR(160),""),80),paieska!$B$1:$B$600,0)),"")) | E24: =IF(OR(C24="",D24=""),"",CHOOSE(SIGN(((D24="ĮGYVENDINTA")*2+(D24="TOBULINTINA"))-((C24="ĮGYVENDINTA")*2+(C24="TOBULINTINA")))+2,"▼","=","▲"))
B25: Įrengti geriamojo vandens prieigos taškai (fontanėliai ir kt.). Skatinama naudotis asmeninėmis gertuvėmis. | C25: =IFERROR(INDEX(paieska!$C$1:$C$600,MATCH(LEFT(SUBSTITUTE(SUBSTITUTE(SUBSTITUTE(SUBSTITUTE($B25,CHAR(10),""),CHAR(13),"")," ",""),CHAR(160),""),80),paieska!$A$1:$A$600,0)),IFERROR(INDEX(paieska!$C$1:$C$600,MATCH(LEFT(SUBSTITUTE(SUBSTITUTE(SUBSTITUTE(SUBSTITUTE($B25,CHAR(10),""),CHAR(13),"")," ",""),CHAR(160),""),80),paieska!$B$1:$B$600,0)),"")) | E25: =IF(OR(C25="",D25=""),"",CHOOSE(SIGN(((D25="ĮGYVENDINTA")*2+(D25="TOBULINTINA"))-((C25="ĮGYVENDINTA")*2+(C25="TOBULINTINA")))+2,"▼","=","▲"))
B26: Valgyklos aplinkoje įrengti praustuvai, jų aplinka skatina higienos įpročius, rankų plovimą prieš valgį ir t.t. | C26: =IFERROR(INDEX(paieska!$C$1:$C$600,MATCH(LEFT(SUBSTITUTE(SUBSTITUTE(SUBSTITUTE(SUBSTITUTE($B26,CHAR(10),""),CHAR(13),"")," ",""),CHAR(160),""),80),paieska!$A$1:$A$600,0)),IFERROR(INDEX(paieska!$C$1:$C$600,MATCH(LEFT(SUBSTITUTE(SUBSTITUTE(SUBSTITUTE(SUBSTITUTE($B26,CHAR(10),""),CHAR(13),"")," ",""),CHAR(160),""),80),paieska!$B$1:$B$600,0)),"")) | E26: =IF(OR(C26="",D26=""),"",CHOOSE(SIGN(((D26="ĮGYVENDINTA")*2+(D26="TOBULINTINA"))-((C26="ĮGYVENDINTA")*2+(C26="TOBULINTINA")))+2,"▼","=","▲"))
B27: Mokyklos vandens apytakos sistema nuo vandens įvado iki kanalizacijos minimaliai tarši (apsaugota nuo chemikalų ir kt.). | C27: =IFERROR(INDEX(paieska!$C$1:$C$600,MATCH(LEFT(SUBSTITUTE(SUBSTITUTE(SUBSTITUTE(SUBSTITUTE($B27,CHAR(10),""),CHAR(13),"")," ",""),CHAR(160),""),80),paieska!$A$1:$A$600,0)),IFERROR(INDEX(paieska!$C$1:$C$600,MATCH(LEFT(SUBSTITUTE(SUBSTITUTE(SUBSTITUTE(SUBSTITUTE($B27,CHAR(10),""),CHAR(13),"")," ",""),CHAR(160),""),80),paieska!$B$1:$B$600,0)),"")) | E27: =IF(OR(C27="",D27=""),"",CHOOSE(SIGN(((D27="ĮGYVENDINTA")*2+(D27="TOBULINTINA"))-((C27="ĮGYVENDINTA")*2+(C27="TOBULINTINA")))+2,"▼","=","▲"))
A28: 6 kriterijus: ENERGETIKOS IR VANDENTVARKOS EDUKACIJOS INFRASTRUKTŪRA
B29: Mokiniams patrauklia forma įrengtos edukacinės priemonės supažindina su tvaria energija ir vandens taupymu. | C29: =IFERROR(INDEX(paieska!$C$1:$C$600,MATCH(LEFT(SUBSTITUTE(SUBSTITUTE(SUBSTITUTE(SUBSTITUTE($B29,CHAR(10),""),CHAR(13),"")," ",""),CHAR(160),""),80),paieska!$A$1:$A$600,0)),IFERROR(INDEX(paieska!$C$1:$C$600,MATCH(LEFT(SUBSTITUTE(SUBSTITUTE(SUBSTITUTE(SUBSTITUTE($B29,CHAR(10),""),CHAR(13),"")," ",""),CHAR(160),""),80),paieska!$B$1:$B$600,0)),"")) | E29: =IF(OR(C29="",D29=""),"",CHOOSE(SIGN(((D29="ĮGYVENDINTA")*2+(D29="TOBULINTINA"))-((C29="ĮGYVENDINTA")*2+(C29="TOBULINTINA")))+2,"▼","=","▲"))
B30: Įrengti ženklai ir plakatai, primenantys mokyklos bendruomenei apie vandens tausojimo svarbą. | C30: =IFERROR(INDEX(paieska!$C$1:$C$600,MATCH(LEFT(SUBSTITUTE(SUBSTITUTE(SUBSTITUTE(SUBSTITUTE($B30,CHAR(10),""),CHAR(13),"")," ",""),CHAR(160),""),80),paieska!$A$1:$A$600,0)),IFERROR(INDEX(paieska!$C$1:$C$600,MATCH(LEFT(SUBSTITUTE(SUBSTITUTE(SUBSTITUTE(SUBSTITUTE($B30,CHAR(10),""),CHAR(13),"")," ",""),CHAR(160),""),80),paieska!$B$1:$B$600,0)),"")) | E30: =IF(OR(C30="",D30=""),"",CHOOSE(SIGN(((D30="ĮGYVENDINTA")*2+(D30="TOBULINTINA"))-((C30="ĮGYVENDINTA")*2+(C30="TOBULINTINA")))+2,"▼","=","▲"))
A31: 7 kriterijus: BŪTINOSIOS HIGIENOS APLINKA
B32: Sudaryta galimybė bet kuriuo metu pasinaudoti dušu. | C32: =IFERROR(INDEX(paieska!$C$1:$C$600,MATCH(LEFT(SUBSTITUTE(SUBSTITUTE(SUBSTITUTE(SUBSTITUTE($B32,CHAR(10),""),CHAR(13),"")," ",""),CHAR(160),""),80),paieska!$A$1:$A$600,0)),IFERROR(INDEX(paieska!$C$1:$C$600,MATCH(LEFT(SUBSTITUTE(SUBSTITUTE(SUBSTITUTE(SUBSTITUTE($B32,CHAR(10),""),CHAR(13),"")," ",""),CHAR(160),""),80),paieska!$B$1:$B$600,0)),"")) | E32: =IF(OR(C32="",D32=""),"",CHOOSE(SIGN(((D32="ĮGYVENDINTA")*2+(D32="TOBULINTINA"))-((C32="ĮGYVENDINTA")*2+(C32="TOBULINTINA")))+2,"▼","=","▲"))
B33: Mokykloje įrengtos lyčiai neutralios higienos patalpos (unisex). | C33: =IFERROR(INDEX(paieska!$C$1:$C$600,MATCH(LEFT(SUBSTITUTE(SUBSTITUTE(SUBSTITUTE(SUBSTITUTE($B33,CHAR(10),""),CHAR(13),"")," ",""),CHAR(160),""),80),paieska!$A$1:$A$600,0)),IFERROR(INDEX(paieska!$C$1:$C$600,MATCH(LEFT(SUBSTITUTE(SUBSTITUTE(SUBSTITUTE(SUBSTITUTE($B33,CHAR(10),""),CHAR(13),"")," ",""),CHAR(160),""),80),paieska!$B$1:$B$600,0)),"")) | E33: =IF(OR(C33="",D33=""),"",CHOOSE(SIGN(((D33="ĮGYVENDINTA")*2+(D33="TOBULINTINA"))-((C33="ĮGYVENDINTA")*2+(C33="TOBULINTINA")))+2,"▼","=","▲"))
B34: Suteikiamos reikiamos higienos priemonės (pvz., įklotai) ir įrengta jų atliekų surinkimo sistema. | C34: =IFERROR(INDEX(paieska!$C$1:$C$600,MATCH(LEFT(SUBSTITUTE(SUBSTITUTE(SUBSTITUTE(SUBSTITUTE($B34,CHAR(10),""),CHAR(13),"")," ",""),CHAR(160),""),80),paieska!$A$1:$A$600,0)),IFERROR(INDEX(paieska!$C$1:$C$600,MATCH(LEFT(SUBSTITUTE(SUBSTITUTE(SUBSTITUTE(SUBSTITUTE($B34,CHAR(10),""),CHAR(13),"")," ",""),CHAR(160),""),80),paieska!$B$1:$B$600,0)),"")) | E34: =IF(OR(C34="",D34=""),"",CHOOSE(SIGN(((D34="ĮGYVENDINTA")*2+(D34="TOBULINTINA"))-((C34="ĮGYVENDINTA")*2+(C34="TOBULINTINA")))+2,"▼","=","▲"))
A35: 8 kriterijus: MAISTO GAMINIMO APLINKA
B36: Įrengtos erdvės viduje ir lauke, kur mokiniai gali maitintis savo užkandžiais. Sudarytos galimybės pasišildyti iš namų atsineštą maistą. | C36: =IFERROR(INDEX(paieska!$C$1:$C$600,MATCH(LEFT(SUBSTITUTE(SUBSTITUTE(SUBSTITUTE(SUBSTITUTE($B36,CHAR(10),""),CHAR(13),"")," ",""),CHAR(160),""),80),paieska!$A$1:$A$600,0)),IFERROR(INDEX(paieska!$C$1:$C$600,MATCH(LEFT(SUBSTITUTE(SUBSTITUTE(SUBSTITUTE(SUBSTITUTE($B36,CHAR(10),""),CHAR(13),"")," ",""),CHAR(160),""),80),paieska!$B$1:$B$600,0)),"")) | E36: =IF(OR(C36="",D36=""),"",CHOOSE(SIGN(((D36="ĮGYVENDINTA")*2+(D36="TOBULINTINA"))-((C36="ĮGYVENDINTA")*2+(C36="TOBULINTINA")))+2,"▼","=","▲"))
B37: Sudaryta galimybė mokytis maisto gaminimo technologijų, nepriklausomai nuo lyties ir amžiaus, formaliajame ir neformaliajame ugdyme. | C37: =IFERROR(INDEX(paieska!$C$1:$C$600,MATCH(LEFT(SUBSTITUTE(SUBSTITUTE(SUBSTITUTE(SUBSTITUTE($B37,CHAR(10),""),CHAR(13),"")," ",""),CHAR(160),""),80),paieska!$A$1:$A$600,0)),IFERROR(INDEX(paieska!$C$1:$C$600,MATCH(LEFT(SUBSTITUTE(SUBSTITUTE(SUBSTITUTE(SUBSTITUTE($B37,CHAR(10),""),CHAR(13),"")," ",""),CHAR(160),""),80),paieska!$B$1:$B$600,0)),"")) | E37: =IF(OR(C37="",D37=""),"",CHOOSE(SIGN(((D37="ĮGYVENDINTA")*2+(D37="TOBULINTINA"))-((C37="ĮGYVENDINTA")*2+(C37="TOBULINTINA")))+2,"▼","=","▲"))
B38: Mokyklos maisto ruošimo technologijų klasės aprūpintos šiuolaikine maisto gaminimo, pateikimo įranga ir priemonėmis, laikantis tvarumo reikalavimų (energetinė klasė, žaliasis pasirinkimas, nenaudojami vienkartiniai indai ir pan.). | C38: =IFERROR(INDEX(paieska!$C$1:$C$600,MATCH(LEFT(SUBSTITUTE(SUBSTITUTE(SUBSTITUTE(SUBSTITUTE($B38,CHAR(10),""),CHAR(13),"")," ",""),CHAR(160),""),80),paieska!$A$1:$A$600,0)),IFERROR(INDEX(paieska!$C$1:$C$600,MATCH(LEFT(SUBSTITUTE(SUBSTITUTE(SUBSTITUTE(SUBSTITUTE($B38,CHAR(10),""),CHAR(13),"")," ",""),CHAR(160),""),80),paieska!$B$1:$B$600,0)),"")) | E38: =IF(OR(C38="",D38=""),"",CHOOSE(SIGN(((D38="ĮGYVENDINTA")*2+(D38="TOBULINTINA"))-((C38="ĮGYVENDINTA")*2+(C38="TOBULINTINA")))+2,"▼","=","▲"))
A39: 9 kriterijus: KITI MOKYKLOS IŠTEKLIŲ TAUSOJIMO IR PRIEINAMUMO RODIKLIAI
A40: 2 sritis. Judumas | C40: 2024 m. statusas | D40: 2026 m. statusas | E40: Pokytis
...

Sheet 2024 m. duomenys
A1: ČIA ĮKLIJUOKITE SAVO 2024 M. ĮSIVERTINIMO LENTELĘ
A3: 1. Atidarykite savo 2024 m. užpildytą įsivertinimo failą, lapą „Įsivertinimo lapas“.
A4: 2. Spustelėkite kairįjį viršutinį kampą (arba Ctrl+A) ir nukopijuokite (Ctrl+C).
A5: 3. Grįžkite į šį lapą, spustelėkite langelį A1 ir įklijuokite (Ctrl+V). Šis tekstas bus perrašytas – taip ir turi būti.
A6: 4. Lape „Įsivertinimo lapas“ stulpelis C (2024 m.) užsipildys automatiškai.
A7: Jei kurio nors rodiklio 2024 m. statusas neatsirado (pvz., pasikeitė rodiklio formuluotė) – pasirinkite jį ranka iš sąrašo stulpelyje C.
A8: Jei 2024 m. failo neturite – šio lapo nereikia, 2024 m. statusus galite pasirinkti ranka.

Sheet paieska
A1: =IFERROR(LEFT(SUBSTITUTE(SUBSTITUTE(SUBSTITUTE(SUBSTITUTE(INDIRECT("'2024 m. duomenys'!B"&ROW())&"",CHAR(10),""),CHAR(13),"")," ",""),CHAR(160),""),80),"") | B1: =IFERROR(LEFT(SUBSTITUTE(SUBSTITUTE(SUBSTITUTE(SUBSTITUTE(INDIRECT("'2024 m. duomenys'!B"&ROW())&"",CHAR(10),""),CHAR(13),"")," ",""),CHAR(160),"")&SUBSTITUTE(SUBSTITUTE(SUBSTITUTE(SUBSTITUTE(INDIRECT("'2024 m. duomenys'!B"&(ROW()+1))&"",CHAR(10),""),CHAR(13),"")," ",""),CHAR(160),""),80),"") | C1: =IFERROR(INDIRECT("'2024 m. duomenys'!C"&ROW())&"","")
A2: =IFERROR(LEFT(SUBSTITUTE(SUBSTITUTE(SUBSTITUTE(SUBSTITUTE(INDIRECT("'2024 m. duomenys'!B"&ROW())&"",CHAR(10),""),CHAR(13),"")," ",""),CHAR(160),""),80),"") | B2: =IFERROR(LEFT(SUBSTITUTE(SUBSTITUTE(SUBSTITUTE(SUBSTITUTE(INDIRECT("'2024 m. duomenys'!B"&ROW())&"",CHAR(10),""),CHAR(13),"")," ",""),CHAR(160),"")&SUBSTITUTE(SUBSTITUTE(SUBSTITUTE(SUBSTITUTE(INDIRECT("'2024 m. duomenys'!B"&(ROW()+1))&"",CHAR(10),""),CHAR(13),"")," ",""),CHAR(160),""),80),"") | C2: =IFERROR(INDIRECT("'2024 m. duomenys'!C"&ROW())&"","")
A3: =IFERROR(LEFT(SUBSTITUTE(SUBSTITUTE(SUBSTITUTE(SUBSTITUTE(INDIRECT("'2024 m. duomenys'!B"&ROW())&"",CHAR(10),""),CHAR(13),"")," ",""),CHAR(160),""),80),"") | B3: =IFERROR(LEFT(SUBSTITUTE(SUBSTITUTE(SUBSTITUTE(SUBSTITUTE(INDIRECT("'2024 m. duomenys'!B"&ROW())&"",CHAR(10),""),CHAR(13),"")," ",""),CHAR(160),"")&SUBSTITUTE(SUBSTITUTE(SUBSTITUTE(SUBSTITUTE(INDIRECT("'2024 m. duomenys'!B"&(ROW()+1))&"",CHAR(10),""),CHAR(13),"")," ",""),CHAR(160),""),80),"") | C3: =IFERROR(INDIRECT("'2024 m. duomenys'!C"&ROW())&"","")
A4: =IFERROR(LEFT(SUBSTITUTE(SUBSTITUTE(SUBSTITUTE(SUBSTITUTE(INDIRECT("'2024 m. duomenys'!B"&ROW())&"",CHAR(10),""),CHAR(13),"")," ",""),CHAR(160),""),80),"") | B4: =IFERROR(LEFT(SUBSTITUTE(SUBSTITUTE(SUBSTITUTE(SUBSTITUTE(INDIRECT("'2024 m. duomenys'!B"&ROW())&"",CHAR(10),""),CHAR(13),"")," ",""),CHAR(160),"")&SUBSTITUTE(SUBSTITUTE(SUBSTITUTE(SUBSTITUTE(INDIRECT("'2024 m. duomenys'!B"&(ROW()+1))&"",CHAR(10),""),CHAR(13),"")," ",""),CHAR(160),""),80),"") | C4: =IFERROR(INDIRECT("'2024 m. duomenys'!C"&ROW())&"","")
A5: =IFERROR(LEFT(SUBSTITUTE(SUBSTITUTE(SUBSTITUTE(SUBSTITUTE(INDIRECT("'2024 m. duomenys'!B"&ROW())&"",CHAR(10),""),CHAR(13),"")," ",""),CHAR(160),""),80),"") | B5: =IFERROR(LEFT(SUBSTITUTE(SUBSTITUTE(SUBSTITUTE(SUBSTITUTE(INDIRECT("'2024 m. duomenys'!B"&ROW())&"",CHAR(10),""),CHAR(13),"")," ",""),CHAR(160),"")&SUBSTITUTE(SUBSTITUTE(SUBSTITUTE(SUBSTITUTE(INDIRECT("'2024 m. duomenys'!B"&(ROW()+1))&"",CHAR(10),""),CHAR(13),"")," ",""),CHAR(160),""),80),"") | C5: =IFERROR(INDIRECT("'2024 m. duomenys'!C"&ROW())&"","")
A6: =IFERROR(LEFT(SUBSTITUTE(SUBSTITUTE(SUBSTITUTE(SUBSTITUTE(INDIRECT("'2024 m. duomenys'!B"&ROW())&"",CHAR(10),""),CHAR(13),"")," ",""),CHAR(160),""),80),"") | B6: =IFERROR(LEFT(SUBSTITUTE(SUBSTITUTE(SUBSTITUTE(SUBSTITUTE(INDIRECT("'2024 m. duomenys'!B"&ROW())&"",CHAR(10),""),CHAR(13),"")," ",""),CHAR(160),"")&SUBSTITUTE(SUBSTITUTE(SUBSTITUTE(SUBSTITUTE(INDIRECT("'2024 m. duomenys'!B"&(ROW()+1))&"",CHAR(10),""),CHAR(13),"")," ",""),CHAR(160),""),80),"") | C6: =IFERROR(INDIRECT("'2024 m. duomenys'!C"&ROW())&"","")
A7: =IFERROR(LEFT(SUBSTITUTE(SUBSTITUTE(SUBSTITUTE(SUBSTITUTE(INDIRECT("'2024 m. duomenys'!B"&ROW())&"",CHAR(10),""),CHAR(13),"")," ",""),CHAR(160),""),80),"") | B7: =IFERROR(LEFT(SUBSTITUTE(SUBSTITUTE(SUBSTITUTE(SUBSTITUTE(INDIRECT("'2024 m. duomenys'!B"&ROW())&"",CHAR(10),""),CHAR(13),"")," ",""),CHAR(160),"")&SUBSTITUTE(SUBSTITUTE(SUBSTITUTE(SUBSTITUTE(INDIRECT("'2024 m. duomenys'!B"&(ROW()+1))&"",CHAR(10),""),CHAR(13),"")," ",""),CHAR(160),""),80),"") | C7: =IFERROR(INDIRECT("'2024 m. duomenys'!C"&ROW())&"","")
A8: =IFERROR(LEFT(SUBSTITUTE(SUBSTITUTE(SUBSTITUTE(SUBSTITUTE(INDIRECT("'2024 m. duomenys'!B"&ROW())&"",CHAR(10),""),CHAR(13),"")," ",""),CHAR(160),""),80),"") | B8: =IFERROR(LEFT(SUBSTITUTE(SUBSTITUTE(SUBSTITUTE(SUBSTITUTE(INDIRECT("'2024 m. duomenys'!B"&ROW())&"",CHAR(10),""),CHAR(13),"")," ",""),CHAR(160),"")&SUBSTITUTE(SUBSTITUTE(SUBSTITUTE(SUBSTITUTE(INDIRECT("'2024 m. duomenys'!B"&(ROW()+1))&"",CHAR(10),""),CHAR(13),"")," ",""),CHAR(160),""),80),"") | C8: =IFERROR(INDIRECT("'2024 m. duomenys'!C"&ROW())&"","")
A9: =IFERROR(LEFT(SUBSTITUTE(SUBSTITUTE(SUBSTITUTE(SUBSTITUTE(INDIRECT("'2024 m. duomenys'!B"&ROW())&"",CHAR(10),""),CHAR(13),"")," ",""),CHAR(160),""),80),"") | B9: =IFERROR(LEFT(SUBSTITUTE(SUBSTITUTE(SUBSTITUTE(SUBSTITUTE(INDIRECT("'2024 m. duomenys'!B"&ROW())&"",CHAR(10),""),CHAR(13),"")," ",""),CHAR(160),"")&SUBSTITUTE(SUBSTITUTE(SUBSTITUTE(SUBSTITUTE(INDIRECT("'2024 m. duomenys'!B"&(ROW()+1))&"",CHAR(10),""),CHAR(13),"")," ",""),CHAR(160),""),80),"") | C9: =IFERROR(INDIRECT("'2024 m. duomenys'!C"&ROW())&"","")
A10: =IFERROR(LEFT(SUBSTITUTE(SUBSTITUTE(SUBSTITUTE(SUBSTITUTE(INDIRECT("'2024 m. duomenys'!B"&ROW())&"",CHAR(10),""),CHAR(13),"")," ",""),CHAR(160),""),80),"") | B10: =IFERROR(LEFT(SUBSTITUTE(SUBSTITUTE(SUBSTITUTE(SUBSTITUTE(INDIRECT("'2024 m. duomenys'!B"&ROW())&"",CHAR(10),""),CHAR(13),"")," ",""),CHAR(160),"")&SUBSTITUTE(SUBSTITUTE(SUBSTITUTE(SUBSTITUTE(INDIRECT("'2024 m. duomenys'!B"&(ROW()+1))&"",CHAR(10),""),CHAR(13),"")," ",""),CHAR(160),""),80),"") | C10: =IFERROR(INDIRECT("'2024 m. duomenys'!C"&ROW())&"","")
A11: =IFERROR(LEFT(SUBSTITUTE(SUBSTITUTE(SUBSTITUTE(SUBSTITUTE(INDIRECT("'2024 m. duomenys'!B"&ROW())&"",CHAR(10),""),CHAR(13),"")," ",""),CHAR(160),""),80),"") | B11: =IFERROR(LEFT(SUBSTITUTE(SUBSTITUTE(SUBSTITUTE(SUBSTITUTE(INDIRECT("'2024 m. duomenys'!B"&ROW())&"",CHAR(10),""),CHAR(13),"")," ",""),CHAR(160),"")&SUBSTITUTE(SUBSTITUTE(SUBSTITUTE(SUBSTITUTE(INDIRECT("'2024 m. duomenys'!B"&(ROW()+1))&"",CHAR(10),""),CHAR(13),"")," ",""),CHAR(160),""),80),"") | C11: =IFERROR(INDIRECT("'2024 m. duomenys'!C"&ROW())&"","")
A12: =IFERROR(LEFT(SUBSTITUTE(SUBSTITUTE(SUBSTITUTE(SUBSTITUTE(INDIRECT("'2024 m. duomenys'!B"&ROW())&"",CHAR(10),""),CHAR(13),"")," ",""),CHAR(160),""),80),"") | B12: =IFERROR(LEFT(SUBSTITUTE(SUBSTITUTE(SUBSTITUTE(SUBSTITUTE(INDIRECT("'2024 m. duomenys'!B"&ROW())&"",CHAR(10),""),CHAR(13),"")," ",""),CHAR(160),"")&SUBSTITUTE(SUBSTITUTE(SUBSTITUTE(SUBSTITUTE(INDIRECT("'2024 m. duomenys'!B"&(ROW()+1))&"",CHAR(10),""),CHAR(13),"")," ",""),CHAR(160),""),80),"") | C12: =IFERROR(INDIRECT("'2024 m. duomenys'!C"&ROW())&"","")
... A600: =IFERROR(LEFT(SUBSTITUTE(SUBSTITUTE(SUBSTITUTE(SUBSTITUTE(INDIRECT("'2024 m. duomenys'!B"&ROW())&"",CHAR(10),""),CHAR(13),"")," ",""),CHAR(160),""),80),"") | B600: =IFERROR(LEFT(SUBSTITUTE(SUBSTITUTE(SUBSTITUTE(SUBSTITUTE(INDIRECT("'2024 m. duomenys'!B"&ROW())&"",CHAR(10),""),CHAR(13),"")," ",""),CHAR(160),"")&SUBSTITUTE(SUBSTITUTE(SUBSTITUTE(SUBSTITUTE(INDIRECT("'2024 m. duomenys'!B"&(ROW()+1))&"",CHAR(10),""),CHAR(13),"")," ",""),CHAR(160),""),80),"") | C600: =IFERROR(INDIRECT("'2024 m. duomenys'!C"&ROW())&"","")
