Workbook

Sheet Pildymo vadovas
A1: Mokyklos pavadinimas | I1: Raudona spalva – rodiklis nebūdingas mokyklai arba neaktualus dėl mokyklos tipo, specifikos, vietovės, kurioje yra mokykla ir kitų priežasčių.
A2: TVARIŲ MOKYKLŲ ĮSIVERTINIMO LAPAS | I2: Geltona spalva – rodiklis iš dalies būdingas mokyklai, tačiau yra galimybių ir iniciatyvų tobulinimui. Mokykla numato siekti rodiklio įgyvendinimo jo gerinimo linkme.
A3: Data | I3: Žalia spalva – rodiklis įgyvendintas mokykloje, yra teigiamų patirčių.
A4: 1 sritis. Išteklių tausojimas ir prieinamumas | C4: STATUSAS
A5: 1 kriterijus: ENERGIJOS NAUDOJIMAS | H5: ATASKAITA
B6: Vadovaujamasi energijos vartojimo audito, kuris atnaujinamas kartą per 5 metus, išvadomis. | I6: Neaktualu | J6: Tobulintina | K6: Įgyvendinta
B7: Mokykla turi pastato energetinio efektyvumo (žaliojo pastato) sertifikatą. | H7: 1 sritis | I7: =COUNTIF(C6:E39,"NEAKTUALU") -> 0 | J7: =COUNTIF(C6:E39,"TOBULINTINA") -> 0 | K7: =COUNTIF(C6:E39,"ĮGYVENDINTA") -> 0 | L7: =IF(K7>=2, "PUIKU", "")
B8: Mokykla turi energetinių rodiklių viziją ir planą. | H8: 2 sritis | I8: =COUNTIF(C41:E71,"NEAKTUALU") -> 0 | J8: =COUNTIF(C41:E71,"TOBULINTINA") -> 0 | K8: =COUNTIF(C41:E71,"ĮGYVENDINTA") -> 0 | L8: =IF(K8>=2, "OK", "")
B9: Ne mažiau 50 proc. naudojamos energijos yra iš atsinaujinančių energijos šaltinių (saulės, vėjo, biokuro, geoterminė ir kt.). Mokykla įsirengia savo jėgainę arba naudoja nuotolines. | H9: 3 sritis | I9: =COUNTIF(C73:E91,"NEAKTUALU") -> 0 | J9: =COUNTIF(C73:E91,"TOBULINTINA") -> 0 | K9: =COUNTIF(C73:E91,"ĮGYVENDINTA") -> 0 | L9: =IF(K9>=2, "OK", "")
A10: 2 kriterijus: ENERGETIKOS STEBĖSENA | H10: 4 sritis | I10: =COUNTIF(C94:E119,"NEAKTUALU") -> 0 | J10: =COUNTIF(C94:E119,"TOBULINTINA") -> 0 | K10: =COUNTIF(C94:E119,"ĮGYVENDINTA") -> 0 | L10: =IF(K10>=2, "OK", "")
B11: Atliekama energetikos ūkio tvarumo stebėsena, vertinami pokyčiai. | H11: 5 sritis | I11: =COUNTIF(C122:E142,"NEAKTUALU") -> 0 | J11: =COUNTIF(C122:E142,"TOBULINTINA") -> 0 | K11: =COUNTIF(C122:E142,"ĮGYVENDINTA") -> 0 | L11: =IF(K11>=2, "OK", "")
B12: Viešose erdvėse švieslentėse/monitoriuose, internete skelbiama informacija apie mokyklos energetinius rodiklius ir jų efektyvumo pokyčius. Mokiniai įtraukti į stebėseną (CO2 matuokliai, termometrai ir kt.). | H12: 6 sritis | I12: =COUNTIF(C145:E182,"NEAKTUALU") -> 0 | J12: =COUNTIF(C145:E182,"TOBULINTINA") -> 0 | K12: =COUNTIF(C145:E182,"ĮGYVENDINTA") -> 0 | L12: =IF(K12>=2, "OK", "")
A13: 3 kriterijus: PATALPŲ MIKROKLIMATAS | H13: 7 sritis | I13: =COUNTIF(C185:E213,"NEAKTUALU") -> 0 | J13: =COUNTIF(C185:E213,"TOBULINTINA") -> 0 | K13: =COUNTIF(C185:E213,"ĮGYVENDINTA") -> 0 | L13: =IF(K13>=2, "OK", "")
B14: Visus metus palaikoma tinkama patalpų temperatūra ir oro kokybė. | H14: 8 sritis | I14: =COUNTIF(C216:E234,"NEAKTUALU") -> 0 | J14: =COUNTIF(C216:E234,"TOBULINTINA") -> 0 | K14: =COUNTIF(C216:E234,"ĮGYVENDINTA") -> 0 | L14: =IF(K14>=2, "OK", "")
B15: Įrengtas išmanusis šildymas, pagrindinėse šildymo ir vėsinimo zonose yra programuojami termostatai. Sukurta energijos taupymo tvarka/taisyklės mokykloje.
B16: Efektyviai apšildytos sienos, mažiausiai 75 proc. langų yra aukštos energinio efektyvumo klasės.
A17: 4 kriterijus: APŠVIETIMAS IR ELEKTROS ĮRANGA
B18: Įrengtas tvarus ir energiją taupantis lauko ir vidaus erdvių apšvietimas. Įdiegta išmani šviesų išjungimo ir reguliavimo sistema.
B19: Naudojami Saulės energijos lauko šviestuvai
B20: Naudojama energetiškai efektyvi ir tvari biuro, buitinė technika ir klasių įranga.
B21: Apšvietimas pritaikytas erdvės paskirtims, užtikrinantis gerą matomumą mokyklos teritorijoje ir patekimui į ją (skirtingų zonų – skirtingas apšvietimas pagal poreikį).
A22: 5 kriterijus: VANDENS PRIEINAMUMAS IR NAUDOJIMAS
B23: Naudojama vandenį taupanti įranga (čiaupai, tualetų bakeliai, dušai ir kt.).
B24: Teikiamas kokybiškas geriamasis vanduo, vykdoma stebėsena.
B25: Įrengti geriamojo vandens prieigos taškai (fontanėliai ir kt.). Skatinama naudotis asmeninėmis gertuvėmis.
B26: Valgyklos aplinkoje įrengti praustuvai, jų aplinka skatina higienos įpročius, rankų plovimą prieš valgį ir t.t.
B27: Mokyklos vandens apytakos sistema nuo vandens įvado iki kanalizacijos minimaliai tarši (apsaugota nuo chemikalų ir kt.).
A28: 6 kriterijus: ENERGETIKOS IR VANDENTVARKOS EDUKACIJOS INFRASTRUKTŪRA
B29: Mokiniams patrauklia forma įrengtos edukacinės priemonės supažindina su tvaria energija ir vandens taupymu.
B30: Įrengti ženklai ir plakatai, primenantys mokyklos bendruomenei apie vandens tausojimo svarbą.
A31: 7 kriterijus: BŪTINOSIOS HIGIENOS APLINKA
B32: Sudaryta galimybė bet kuriuo metu pasinaudoti dušu.
B33: Mokykloje įrengtos lyčiai neutralios higienos patalpos (unisex).
B34: Suteikiamos reikiamos higienos priemonės (pvz., įklotai) ir įrengta jų atliekų surinkimo sistema.
A35: 8 kriterijus: MAISTO GAMINIMO APLINKA
B36: Įrengtos erdvės viduje ir lauke, kur mokiniai gali maitintis savo užkandžiais. Sudarytos galimybės pasišildyti iš namų atsineštą maistą.
B37: Sudaryta galimybė mokytis maisto gaminimo technologijų, nepriklausomai nuo lyties ir amžiaus, formaliajame ir neformaliajame ugdyme.
B38: Mokyklos maisto ruošimo technologijų klasės aprūpintos šiuolaikine maisto gaminimo, pateikimo įranga ir priemonėmis, laikantis tvarumo reikalavimų (energetinė klasė, žaliasis pasirinkimas, nenaudojami vienkartiniai indai ir pan.).
A39: 9 kriterijus: KITI MOKYKLOS IŠTEKLIŲ TAUSOJIMO IR PRIEINAMUMO RODIKLIAI
A40: 2 sritis. Judumas | C40: STATUSAS
A41: 1 kriterijus: TVARI KELIONĖ Į MOKYKLĄ
B42: Sukurtos mokyklos aplinkos jungtys su miesto judumo sistema taikant tvarumo principus (saugios, pritaikytos pėstiesiems ir tvariam transportui). Įrengti pėsčiųjų ir dviračių takai už mokyklos teritorijos
B43: Įrengtos patogios saugyklos dviračiams, paspirtukams, riedlentėms (pakanka vietų, patogios, saugios, su stogeliu).
B44: Skatinama naudotis viešuoju transportu/pavežėjimo mokyklos transportu sistema (pvz., viešojo transporto subsidijos mokytojams).
B45: Bendra mokinių ir darbuotojų važiavimo asmeniniais automobiliais sistema. Mokyklos bendruomenės nariams teikiama paskata už mokinių/kolegų atvežimą.
B46: Sukurta elektromobilumo sistema: laikymo vietos ir įkrovimo stotelės.
B47: Sukurta dviračių ir kitų transporto priemonių dalijimosi sistema mokyklos bendruomenei.
B48: Mokiniai supažindinami su dviračio gedimais ir jų taisymu, įrengta dviračių savarankiška taisykla.
B49: Bendruomenės nariai skatinami už tvarios kelionės į mokyklą pasiekimus.
A50: 2 kriterijus: JUDUMO INFRASTRUKTŪROS TVARUMAS
B51: Tvarus mokyklos transporto priemonių ūkis ir panaudojimas (mažiau taršių transporto priemonių pasirinkimas).
B52: Atitvarų, žaliųjų zonų kūrimas greta kelių, sporto aikštynų (įskaitant priešvėjines, priešerozinės ir kt. priemones)
B53: Judumo infrastruktūros kūrimui, naudojamos tvarios medžiagos ir priemonės.
B54: Judumo infrastruktūra pritaikyta specialius poreikius turintiems bendruomenės nariams.
A55: 3 kriterijus: JUDUMO STEBĖSENA
B56: Mokyklos bendruomenė kuria savo darnaus judumo planą. Judumo infrastruktūra, nuolat atnaujinama.
B57: Mokyklos integruotos į savivaldybių judumo priemonių planus.
B58: Viešai pasiekiami stebėsenos duomenys apie mokyklos bendruomenės narių judumo įpročius (kiek į mokyklą atvyksta automobiliu, pėsčiomis, netaršiu transportu) ir jų pokyčius.
B59: Mokykla vadovaujasi aktyvumą skatinančios mokyklos kūrimo rekomendacijomis „Aktyvi mokykla“.
A60: 4 kriterijus: JUDUMO EDUKACIJA
B61: Sukurta efektyvi judumo, pažintinių, sveikatinimo takų sistema mokyklos aplinkoje.
B62: Takai ženklinti, jų stotelėse yra informaciniai, universalaus dizaino stendai, plakatai, objektai, interaktyvios priemonės.
B63: Informacija stenduose apie viešojo transporto grafikus, žemėlapiai ir kt.
B64: Vykdoma viešojo transporto saugos, etikos ir elgesio edukacija.
A65: 5 kriterijus: SAUGUS EISMAS
B66: Įrengtos priemonės saugiam eismui užtikrinti (apšvietimas,perėjos ir t.t.).
B67: Kuriamos vienodos miesto ir kaimo saugaus eismo galimybės(pav.: šaligatviai, perėjos).
B68: Įrengtos saugaus eismo edukacinės erdvės lauke ar viduje
B69: Puoselėjama mokinių saugaus eismo kultūra
A70: 6 kriterijus: KITI MOKYKLOSTVARAUS JUDUMO RODIKLIAI
B71: Mokykla inicijuoja ir kuria unikalias, savo aplinkai pritaikytas tvaraus judumo priemones.
A72: 3 sritis. Bendruomenės įtraukimas
A73: 1 kriterijus: BENDRUOMENIŠKUMO SKATINIMAS
B74: Mokiniai ir gyvenamosios vietos bendruomenė dalyvauja edukacinių erdvių ir ugdymo turinio jose planavime ir kūrime.
B75: Mokykla bendradarbiauja su partneriais (savivaldybė, rėmėjai, saugomų teritorijų direkcijos, ekspertai ir kt.) kurdami tvarumoiniciatyvas.
B76: Puoselėjamos mokyklos tradicijos ir kuriamos naujos.
B77: Skatinamas mokinių kūrybiškumas ir tvarus verslumas (vystomi amatai, mainai ir kt.).
B78: Bendruomenės narių pasiekimai yra vertinami, viešinami ir skatinami.
B79: Vystoma savanorystė, socialinė veikla (senelių namuose, gyvūnų prieglaudose ir kt.).
B80: Užtikrinamas mokyklos bendruomenės grįžtamasis ryšys apie tvarumo iniciatyvas.
A81: 2 kriterijus: PSICHOLOGINĖ GEROVĖ IR LYGIOS GALIMYBĖS
B82: Vadovaujamasi visiems žinomomis bendro gyvenimo ir nesmurtinės kultūros taisyklėmis. Taisyklės viešinamos matomoje vietoje, visa bendruomenė dalyvauja jų kūrime.
B83: Sudaryti krizių intervencijos planai ir protokolai efektyviam psichikos sveikatos ir psichologinių problemų sprendimui.
B84: Vykdoma psichoaktyviųjų medžiagų vartojimo prevencija.
B85: Aiškūs bendruomenės susitarimai dėl medijų naudojimo tarpusavio bendravime. Mokykla aktyvi „Draugiško interneto“ programose.
B86: Naudojamos uniformos yra neutralios lyčių atžvilgiu arba yra galimybė pasirinkti, kokias uniformos kombinacijas dėvėti, taip leidžiant visiems mokiniams rengtis neribojant jų lyties raiškos.
B87: Sukurta terpė laisvai mokinių ir mokytojų meninei, emocinei ir asmeninei saviraiškai (erdvės freskoms, mokinių televizija/ radijas, virtuali erdvė ir kt.).
B88: Sukurta mokinių savivaldos struktūra ir infrastruktūra, suteiktos patalpos mokinių atstovybėms.
B89: Veikia idėjų ir pasiūlymų dalijimosi platforma (grįžtamojo ryšio dėžutė arba lenta, internetinės apklausos, programėlės).
A90: 3 kriterijus: KITI MOKYKLOS BENDRUOMENĖS ĮTRAUKIMO RODIKLIAI
B91: Mokykla inicijuoja ir kuria unikalias, savo aplinkai pritaikytas bendruomenės įtraukimo priemones.
A92: 4 sritis. Kultūros ir gamtos paveldas
A93: 1 kriterijus: KULTŪRŲ ĮVAIROVĖ
B94: Identifikuojamos bendruomenės kultūrinės skirtybės, joms pritaikoma aplinka ir veiklos.
B95: Bibliotekose, muziejuose ir kitose erdvėse pristatoma ir eksponuojama kultūrų įvairovė bei tradicijos.
B96: Sudaryta galimybė mokiniams bendradarbiauti ir bendrauti su mokiniais iš kitų valstybių, mainų programose, tarptautiniuose projektuose.
B97: Maitinime atspindima mokinių kultūrinė įvairovė, įvairios mitybos tradicijos ir pageidavimai. Rengiamos skirtingos mitybos kultūros meniu dienos, siūlomi tradiciniai patiekalai.
A98: 2 kriterijus: BIOLOGINĖ ĮVAIROVĖ
B99: Dalis mokyklos teritorijos palikta laukinei gamtai (nešienaujamos pievos gabalėlis, negyva mediena ir t.t.). Identifikuojami biologinei įvairovei vertingiausi teritorijos elementai.
B100: Įrengtos biologinę įvairovę skatinančios priemonės (inkilai paukščiams ir šikšnosparniams, apdulkintojų sodai, vabzdžių viešbučiai, ornitochoriniai sodai ir kt.), įrengti informaciniai stendai, mokiniams suteikiamos stebėjimo priemonės (žiūronai, mikroskopai ir t.t.).
...

Sheet Įsivertinimo lapas
A1: Mokyklos pavadinimas | I1: Raudona spalva – rodiklis nebūdingas mokyklai arba neaktualus dėl mokyklos tipo, specifikos, vietovės, kurioje yra mokykla ir kitų priežasčių.
A2: TVARIŲ MOKYKLŲ ĮSIVERTINIMO LAPAS | I2: Geltona spalva – rodiklis iš dalies būdingas mokyklai, tačiau yra galimybių ir iniciatyvų tobulinimui. Mokykla numato siekti rodiklio įgyvendinimo jo gerinimo linkme.
A3: Data (2026 - mm - dd) | I3: Žalia spalva – rodiklis įgyvendintas mokykloje, yra teigiamų patirčių.
A4: 1 sritis. Išteklių tausojimas ir prieinamumas | C4: 2024 m. statusas | D4: 2026 m. statusas | E4: Pokytis
A5: 1 kriterijus: ENERGIJOS NAUDOJIMAS | H5: ATASKAITA
B6: Vadovaujamasi energijos vartojimo audito, kuris atnaujinamas kartą per 5 metus, išvadomis. | C6: =IFERROR(INDEX(paieska!$C$1:$C$600,MATCH(LEFT(SUBSTITUTE(SUBSTITUTE(SUBSTITUTE(SUBSTITUTE($B6,CHAR(10),""),CHAR(13),"")," ",""),CHAR(160),""),80),paieska!$A$1:$A$600,0)),IFERROR(INDEX(paieska!$C$1:$C$600,MATCH(LEFT(SUBSTITUTE(SUBSTITUTE(SUBSTITUTE(SUBSTITUTE($B6,CHAR(10),""),CHAR(13),"")," ",""),CHAR(160),""),80),paieska!$B$1:$B$600,0)),"")) | E6: =IF(OR(C6="",D6=""),"",CHOOSE(SIGN(((D6="ĮGYVENDINTA")*2+(D6="TOBULINTINA"))-((C6="ĮGYVENDINTA")*2+(C6="TOBULINTINA")))+2,"▼","=","▲")) | I6: 2024 m. (1-as įsivertinimas) | L6: 2026 m. (2-as įsivertinimas) | O6: POKYTIS
B7: Mokykla turi pastato energetinio efektyvumo (žaliojo pastato) sertifikatą. | C7: =IFERROR(INDEX(paieska!$C$1:$C$600,MATCH(LEFT(SUBSTITUTE(SUBSTITUTE(SUBSTITUTE(SUBSTITUTE($B7,CHAR(10),""),CHAR(13),"")," ",""),CHAR(160),""),80),paieska!$A$1:$A$600,0)),IFERROR(INDEX(paieska!$C$1:$C$600,MATCH(LEFT(SUBSTITUTE(SUBSTITUTE(SUBSTITUTE(SUBSTITUTE($B7,CHAR(10),""),CHAR(13),"")," ",""),CHAR(160),""),80),paieska!$B$1:$B$600,0)),"")) | E7: =IF(OR(C7="",D7=""),"",CHOOSE(SIGN(((D7="ĮGYVENDINTA")*2+(D7="TOBULINTINA"))-((C7="ĮGYVENDINTA")*2+(C7="TOBULINTINA")))+2,"▼","=","▲")) | H7: Sritis | I7: Neaktualu | J7: Tobulintina | K7: Įgyvendinta | L7: Neaktualu | M7: Tobulintina | N7: Įgyvendinta | O7: Įgyvendinta (+/−) | P7: Pagerėjo ▲ (rodikliai) | Q7: Pablogėjo ▼ (rodikliai)
B8: Mokykla turi energetinių rodiklių viziją ir planą. | C8: =IFERROR(INDEX(paieska!$C$1:$C$600,MATCH(LEFT(SUBSTITUTE(SUBSTITUTE(SUBSTITUTE(SUBSTITUTE($B8,CHAR(10),""),CHAR(13),"")," ",""),CHAR(160),""),80),paieska!$A$1:$A$600,0)),IFERROR(INDEX(paieska!$C$1:$C$600,MATCH(LEFT(SUBSTITUTE(SUBSTITUTE(SUBSTITUTE(SUBSTITUTE($B8,CHAR(10),""),CHAR(13),"")," ",""),CHAR(160),""),80),paieska!$B$1:$B$600,0)),"")) | E8: =IF(OR(C8="",D8=""),"",CHOOSE(SIGN(((D8="ĮGYVENDINTA")*2+(D8="TOBULINTINA"))-((C8="ĮGYVENDINTA")*2+(C8="TOBULINTINA")))+2,"▼","=","▲")) | H8: 1 sritis | I8: =COUNTIF(C6:C39,"NEAKTUALU") -> 0 | J8: =COUNTIF(C6:C39,"TOBULINTINA") -> 0 | K8: =COUNTIF(C6:C39,"ĮGYVENDINTA") -> 0 | L8: =COUNTIF(D6:D39,"NEAKTUALU") -> 0 | M8: =COUNTIF(D6:D39,"TOBULINTINA") -> 0 | N8: =COUNTIF(D6:D39,"ĮGYVENDINTA") -> 0 | O8: =IF(COUNTA(D6:D39)=0,"",N8-K8) | P8: =COUNTIF(E6:E39,"▲") -> 0 | Q8: =COUNTIF(E6:E39,"▼") -> 0
B9: Ne mažiau 50 proc. naudojamos energijos yra iš atsinaujinančių energijos šaltinių (saulės, vėjo, biokuro, geoterminė ir kt.). Mokykla įsirengia savo jėgainę arba naudoja nuotolines. | C9: =IFERROR(INDEX(paieska!$C$1:$C$600,MATCH(LEFT(SUBSTITUTE(SUBSTITUTE(SUBSTITUTE(SUBSTITUTE($B9,CHAR(10),""),CHAR(13),"")," ",""),CHAR(160),""),80),paieska!$A$1:$A$600,0)),IFERROR(INDEX(paieska!$C$1:$C$600,MATCH(LEFT(SUBSTITUTE(SUBSTITUTE(SUBSTITUTE(SUBSTITUTE($B9,CHAR(10),""),CHAR(13),"")," ",""),CHAR(160),""),80),paieska!$B$1:$B$600,0)),"")) | E9: =IF(OR(C9="",D9=""),"",CHOOSE(SIGN(((D9="ĮGYVENDINTA")*2+(D9="TOBULINTINA"))-((C9="ĮGYVENDINTA")*2+(C9="TOBULINTINA")))+2,"▼","=","▲")) | H9: 2 sritis | I9: =COUNTIF(C41:C71,"NEAKTUALU") -> 0 | J9: =COUNTIF(C41:C71,"TOBULINTINA") -> 0 | K9: =COUNTIF(C41:C71,"ĮGYVENDINTA") -> 0 | L9: =COUNTIF(D41:D71,"NEAKTUALU") -> 0 | M9: =COUNTIF(D41:D71,"TOBULINTINA") -> 0 | N9: =COUNTIF(D41:D71,"ĮGYVENDINTA") -> 0 | O9: =IF(COUNTA(D41:D71)=0,"",N9-K9) | P9: =COUNTIF(E41:E71,"▲") -> 0 | Q9: =COUNTIF(E41:E71,"▼") -> 0
A10: 2 kriterijus: ENERGETIKOS STEBĖSENA | H10: 3 sritis | I10: =COUNTIF(C73:C91,"NEAKTUALU") -> 0 | J10: =COUNTIF(C73:C91,"TOBULINTINA") -> 0 | K10: =COUNTIF(C73:C91,"ĮGYVENDINTA") -> 0 | L10: =COUNTIF(D73:D91,"NEAKTUALU") -> 0 | M10: =COUNTIF(D73:D91,"TOBULINTINA") -> 0 | N10: =COUNTIF(D73:D91,"ĮGYVENDINTA") -> 0 | O10: =IF(COUNTA(D73:D91)=0,"",N10-K10) | P10: =COUNTIF(E73:E91,"▲") -> 0 | Q10: =COUNTIF(E73:E91,"▼") -> 0
B11: Atliekama energetikos ūkio tvarumo stebėsena, vertinami pokyčiai. | C11: =IFERROR(INDEX(paieska!$C$1:$C$600,MATCH(LEFT(SUBSTITUTE(SUBSTITUTE(SUBSTITUTE(SUBSTITUTE($B11,CHAR(10),""),CHAR(13),"")," ",""),CHAR(160),""),80),paieska!$A$1:$A$600,0)),IFERROR(INDEX(paieska!$C$1:$C$600,MATCH(LEFT(SUBSTITUTE(SUBSTITUTE(SUBSTITUTE(SUBSTITUTE($B11,CHAR(10),""),CHAR(13),"")," ",""),CHAR(160),""),80),paieska!$B$1:$B$600,0)),"")) | E11: =IF(OR(C11="",D11=""),"",CHOOSE(SIGN(((D11="ĮGYVENDINTA")*2+(D11="TOBULINTINA"))-((C11="ĮGYVENDINTA")*2+(C11="TOBULINTINA")))+2,"▼","=","▲")) | H11: 4 sritis | I11: =COUNTIF(C93:C119,"NEAKTUALU") -> 0 | J11: =COUNTIF(C93:C119,"TOBULINTINA") -> 0 | K11: =COUNTIF(C93:C119,"ĮGYVENDINTA") -> 0 | L11: =COUNTIF(D93:D119,"NEAKTUALU") -> 0 | M11: =COUNTIF(D93:D119,"TOBULINTINA") -> 0 | N11: =COUNTIF(D93:D119,"ĮGYVENDINTA") -> 0 | O11: =IF(COUNTA(D93:D119)=0,"",N11-K11) | P11: =COUNTIF(E93:E119,"▲") -> 0 | Q11: =COUNTIF(E93:E119,"▼") -> 0
B12: Viešose erdvėse švieslentėse/monitoriuose, internete skelbiama informacija apie mokyklos energetinius rodiklius ir jų efektyvumo pokyčius. Mokiniai įtraukti į stebėseną (CO2 matuokliai, termometrai ir kt.). | C12: =IFERROR(INDEX(paieska!$C$1:$C$600,MATCH(LEFT(SUBSTITUTE(SUBSTITUTE(SUBSTITUTE(SUBSTITUTE($B12,CHAR(10),""),CHAR(13),"")," ",""),CHAR(160),""),80),paieska!$A$1:$A$600,0)),IFERROR(INDEX(paieska!$C$1:$C$600,MATCH(LEFT(SUBSTITUTE(SUBSTITUTE(SUBSTITUTE(SUBSTITUTE($B12,CHAR(10),""),CHAR(13),"")," ",""),CHAR(160),""),80),paieska!$B$1:$B$600,0)),"")) | E12: =IF(OR(C12="",D12=""),"",CHOOSE(SIGN(((D12="ĮGYVENDINTA")*2+(D12="TOBULINTINA"))-((C12="ĮGYVENDINTA")*2+(C12="TOBULINTINA")))+2,"▼","=","▲")) | H12: 5 sritis | I12: =COUNTIF(C121:C142,"NEAKTUALU") -> 0 | J12: =COUNTIF(C121:C142,"TOBULINTINA") -> 0 | K12: =COUNTIF(C121:C142,"ĮGYVENDINTA") -> 0 | L12: =COUNTIF(D121:D142,"NEAKTUALU") -> 0 | M12: =COUNTIF(D121:D142,"TOBULINTINA") -> 0 | N12: =COUNTIF(D121:D142,"ĮGYVENDINTA") -> 0 | O12: =IF(COUNTA(D121:D142)=0,"",N12-K12) | P12: =COUNTIF(E121:E142,"▲") -> 0 | Q12: =COUNTIF(E121:E142,"▼") -> 0
A13: 3 kriterijus: PATALPŲ MIKROKLIMATAS | H13: 6 sritis | I13: =COUNTIF(C144:C182,"NEAKTUALU") -> 0 | J13: =COUNTIF(C144:C182,"TOBULINTINA") -> 0 | K13: =COUNTIF(C144:C182,"ĮGYVENDINTA") -> 0 | L13: =COUNTIF(D144:D182,"NEAKTUALU") -> 0 | M13: =COUNTIF(D144:D182,"TOBULINTINA") -> 0 | N13: =COUNTIF(D144:D182,"ĮGYVENDINTA") -> 0 | O13: =IF(COUNTA(D144:D182)=0,"",N13-K13) | P13: =COUNTIF(E144:E182,"▲") -> 0 | Q13: =COUNTIF(E144:E182,"▼") -> 0
B14: Visus metus palaikoma tinkama patalpų temperatūra ir oro kokybė. | C14: =IFERROR(INDEX(paieska!$C$1:$C$600,MATCH(LEFT(SUBSTITUTE(SUBSTITUTE(SUBSTITUTE(SUBSTITUTE($B14,CHAR(10),""),CHAR(13),"")," ",""),CHAR(160),""),80),paieska!$A$1:$A$600,0)),IFERROR(INDEX(paieska!$C$1:$C$600,MATCH(LEFT(SUBSTITUTE(SUBSTITUTE(SUBSTITUTE(SUBSTITUTE($B14,CHAR(10),""),CHAR(13),"")," ",""),CHAR(160),""),80),paieska!$B$1:$B$600,0)),"")) | E14: =IF(OR(C14="",D14=""),"",CHOOSE(SIGN(((D14="ĮGYVENDINTA")*2+(D14="TOBULINTINA"))-((C14="ĮGYVENDINTA")*2+(C14="TOBULINTINA")))+2,"▼","=","▲")) | H14: 7 sritis | I14: =COUNTIF(C184:C213,"NEAKTUALU") -> 0 | J14: =COUNTIF(C184:C213,"TOBULINTINA") -> 0 | K14: =COUNTIF(C184:C213,"ĮGYVENDINTA") -> 0 | L14: =COUNTIF(D184:D213,"NEAKTUALU") -> 0 | M14: =COUNTIF(D184:D213,"TOBULINTINA") -> 0 | N14: =COUNTIF(D184:D213,"ĮGYVENDINTA") -> 0 | O14: =IF(COUNTA(D184:D213)=0,"",N14-K14) | P14: =COUNTIF(E184:E213,"▲") -> 0 | Q14: =COUNTIF(E184:E213,"▼") -> 0
B15: Įrengtas išmanusis šildymas, pagrindinėse šildymo ir vėsinimo zonose yra programuojami termostatai. Sukurta energijos taupymo tvarka/taisyklės mokykloje. | C15: =IFERROR(INDEX(paieska!$C$1:$C$600,MATCH(LEFT(SUBSTITUTE(SUBSTITUTE(SUBSTITUTE(SUBSTITUTE($B15,CHAR(10),""),CHAR(13),"")," ",""),CHAR(160),""),80),paieska!$A$1:$A$600,0)),IFERROR(INDEX(paieska!$C$1:$C$600,MATCH(LEFT(SUBSTITUTE(SUBSTITUTE(SUBSTITUTE(SUBSTITUTE($B15,CHAR(10),""),CHAR(13),"")," ",""),CHAR(160),""),80),paieska!$B$1:$B$600,0)),"")) | E15: =IF(OR(C15="",D15=""),"",CHOOSE(SIGN(((D15="ĮGYVENDINTA")*2+(D15="TOBULINTINA"))-((C15="ĮGYVENDINTA")*2+(C15="TOBULINTINA")))+2,"▼","=","▲")) | H15: 8 sritis | I15: =COUNTIF(C215:C234,"NEAKTUALU") -> 0 | J15: =COUNTIF(C215:C234,"TOBULINTINA") -> 0 | K15: =COUNTIF(C215:C234,"ĮGYVENDINTA") -> 0 | L15: =COUNTIF(D215:D234,"NEAKTUALU") -> 0 | M15: =COUNTIF(D215:D234,"TOBULINTINA") -> 0 | N15: =COUNTIF(D215:D234,"ĮGYVENDINTA") -> 0 | O15: =IF(COUNTA(D215:D234)=0,"",N15-K15) | P15: =COUNTIF(E215:E234,"▲") -> 0 | Q15: =COUNTIF(E215:E234,"▼") -> 0
B16: Efektyviai apšildytos sienos, mažiausiai 75 proc. langų yra aukštos energinio efektyvumo klasės. | C16: =IFERROR(INDEX(paieska!$C$1:$C$600,MATCH(LEFT(SUBSTITUTE(SUBSTITUTE(SUBSTITUTE(SUBSTITUTE($B16,CHAR(10),""),CHAR(13),"")," ",""),CHAR(160),""),80),paieska!$A$1:$A$600,0)),IFERROR(INDEX(paieska!$C$1:$C$600,MATCH(LEFT(SUBSTITUTE(SUBSTITUTE(SUBSTITUTE(SUBSTITUTE($B16,CHAR(10),""),CHAR(13),"")," ",""),CHAR(160),""),80),paieska!$B$1:$B$600,0)),"")) | E16: =IF(OR(C16="",D16=""),"",CHOOSE(SIGN(((D16="ĮGYVENDINTA")*2+(D16="TOBULINTINA"))-((C16="ĮGYVENDINTA")*2+(C16="TOBULINTINA")))+2,"▼","=","▲")) | H16: Iš viso | I16: =SUM(I8:I15) -> 0 | J16: =SUM(J8:J15) -> 0 | K16: =SUM(K8:K15) -> 0 | L16: =SUM(L8:L15) -> 0 | M16: =SUM(M8:M15) -> 0 | N16: =SUM(N8:N15) -> 0 | O16: =IF(COUNTA(D6:D234)=0,"",N16-K16) -> 0 | P16: =SUM(P8:P15) -> 0 | Q16: =SUM(Q8:Q15) -> 0
A17: 4 kriterijus: APŠVIETIMAS IR ELEKTROS ĮRANGA
B18: Įrengtas tvarus ir energiją taupantis lauko ir vidaus erdvių apšvietimas. Įdiegta išmani šviesų išjungimo ir reguliavimo sistema. | C18: =IFERROR(INDEX(paieska!$C$1:$C$600,MATCH(LEFT(SUBSTITUTE(SUBSTITUTE(SUBSTITUTE(SUBSTITUTE($B18,CHAR(10),""),CHAR(13),"")," ",""),CHAR(160),""),80),paieska!$A$1:$A$600,0)),IFERROR(INDEX(paieska!$C$1:$C$600,MATCH(LEFT(SUBSTITUTE(SUBSTITUTE(SUBSTITUTE(SUBSTITUTE($B18,CHAR(10),""),CHAR(13),"")," ",""),CHAR(160),""),80),paieska!$B$1:$B$600,0)),"")) | E18: =IF(OR(C18="",D18=""),"",CHOOSE(SIGN(((D18="ĮGYVENDINTA")*2+(D18="TOBULINTINA"))-((C18="ĮGYVENDINTA")*2+(C18="TOBULINTINA")))+2,"▼","=","▲")) | H18: Užpildyta | I18: =C235 -> 0 | L18: =D235 -> 0
B19: Naudojami Saulės energijos lauko šviestuvai | C19: =IFERROR(INDEX(paieska!$C$1:$C$600,MATCH(LEFT(SUBSTITUTE(SUBSTITUTE(SUBSTITUTE(SUBSTITUTE($B19,CHAR(10),""),CHAR(13),"")," ",""),CHAR(160),""),80),paieska!$A$1:$A$600,0)),IFERROR(INDEX(paieska!$C$1:$C$600,MATCH(LEFT(SUBSTITUTE(SUBSTITUTE(SUBSTITUTE(SUBSTITUTE($B19,CHAR(10),""),CHAR(13),"")," ",""),CHAR(160),""),80),paieska!$B$1:$B$600,0)),"")) | E19: =IF(OR(C19="",D19=""),"",CHOOSE(SIGN(((D19="ĮGYVENDINTA")*2+(D19="TOBULINTINA"))-((C19="ĮGYVENDINTA")*2+(C19="TOBULINTINA")))+2,"▼","=","▲"))
B20: Naudojama energetiškai efektyvi ir tvari biuro, buitinė technika ir klasių įranga. | C20: =IFERROR(INDEX(paieska!$C$1:$C$600,MATCH(LEFT(SUBSTITUTE(SUBSTITUTE(SUBSTITUTE(SUBSTITUTE($B20,CHAR(10),""),CHAR(13),"")," ",""),CHAR(160),""),80),paieska!$A$1:$A$600,0)),IFERROR(INDEX(paieska!$C$1:$C$600,MATCH(LEFT(SUBSTITUTE(SUBSTITUTE(SUBSTITUTE(SUBSTITUTE($B20,CHAR(10),""),CHAR(13),"")," ",""),CHAR(160),""),80),paieska!$B$1:$B$600,0)),"")) | E20: =IF(OR(C20="",D20=""),"",CHOOSE(SIGN(((D20="ĮGYVENDINTA")*2+(D20="TOBULINTINA"))-((C20="ĮGYVENDINTA")*2+(C20="TOBULINTINA")))+2,"▼","=","▲")) | H20: Kaip pildyti: stulpelis C – 2024 m. statusas. Jis užsipildo automatiškai, jei į lapą „2024 m. duomenys“ įklijuojate savo 2024 m. lentelę (arba pasirinkite iš sąrašo ranka). Stulpelis D – naujas 2026 m. statusas, pasirenkamas iš sąrašo. Stulpelis E rodo pokytį: ▲ pagerėjo, ▼ pablogėjo, = nepasikeitė. Ataskaitos lentelės pildyti nereikia – skaičiai susiskaičiuoja patys.
B21: Apšvietimas pritaikytas erdvės paskirtims, užtikrinantis gerą matomumą mokyklos teritorijoje ir patekimui į ją (skirtingų zonų – skirtingas apšvietimas pagal poreikį). | C21: =IFERROR(INDEX(paieska!$C$1:$C$600,MATCH(LEFT(SUBSTITUTE(SUBSTITUTE(SUBSTITUTE(SUBSTITUTE($B21,CHAR(10),""),CHAR(13),"")," ",""),CHAR(160),""),80),paieska!$A$1:$A$600,0)),IFERROR(INDEX(paieska!$C$1:$C$600,MATCH(LEFT(SUBSTITUTE(SUBSTITUTE(SUBSTITUTE(SUBSTITUTE($B21,CHAR(10),""),CHAR(13),"")," ",""),CHAR(160),""),80),paieska!$B$1:$B$600,0)),"")) | E21: =IF(OR(C21="",D21=""),"",CHOOSE(SIGN(((D21="ĮGYVENDINTA")*2+(D21="TOBULINTINA"))-((C21="ĮGYVENDINTA")*2+(C21="TOBULINTINA")))+2,"▼","=","▲"))
A22: 5 kriterijus: VANDENS PRIEINAMUMAS IR NAUDOJIMAS
B23: Naudojama vandenį taupanti įranga (čiaupai, tualetų bakeliai, dušai ir kt.). | C23: =IFERROR(INDEX(paieska!$C$1:$C$600,MATCH(LEFT(SUBSTITUTE(SUBSTITUTE(SUBSTITUTE(SUBSTITUTE($B23,CHAR(10),""),CHAR(13),"")," ",""),CHAR(160),""),80),paieska!$A$1:$A$600,0)),IFERROR(INDEX(paieska!$C$1:$C$600,MATCH(LEFT(SUBSTITUTE(SUBSTITUTE(SUBSTITUTE(SUBSTITUTE($B23,CHAR(10),""),CHAR(13),"")," ",""),CHAR(160),""),80),paieska!$B$1:$B$600,0)),"")) | E23: =IF(OR(C23="",D23=""),"",CHOOSE(SIGN(((D23="ĮGYVENDINTA")*2+(D23="TOBULINTINA"))-((C23="ĮGYVENDINTA")*2+(C23="TOBULINTINA")))+2,"▼","=","▲"))
B24: Teikiamas kokybiškas geriamasis vanduo, vykdoma stebėsena. | C24: =IFERROR(INDEX(paieska!$C$1:$C$600,MATCH(LEFT(SUBSTITUTE(SUBSTITUTE(SUBSTITUTE(SUBSTITUTE($B24,CHAR(10),""),CHAR(13),"")," ",""),CHAR(160),""),80),paieska!$A$1:$A$600,0)),IFERROR(INDEX(paieska!$C$1:$C$600,MATCH(LEFT(SUBSTITUTE(SUBSTITUTE(SUBSTITUTE(SUBSTITUTE($B24,CHAR(10),""),CHAR(13),"")," ",""),CHAR(160),""),80),paieska!$B$1:$B$600,0)),"")) | E24: =IF(OR(C24="",D24=""),"",CHOOSE(SIGN(((D24="ĮGYVENDINTA")*2+(D24="TOBULINTINA"))-((C24="ĮGYVENDINTA")*2+(C24="TOBULINTINA")))+2,"▼","=","▲"))
B25: Įrengti geriamojo vandens prieigos taškai (fontanėliai ir kt.). Skatinama naudotis asmeninėmis gertuvėmis. | C25: =IFERROR(INDEX(paieska!$C$1:$C$600,MATCH(LEFT(SUBSTITUTE(SUBSTITUTE(SUBSTITUTE(SUBSTITUTE($B25,CHAR(10),""),CHAR(13),"")," ",""),CHAR(160),""),80),paieska!$A$1:$A$600,0)),IFERROR(INDEX(paieska!$C$1:$C$600,MATCH(LEFT(SUBSTITUTE(SUBSTITUTE(SUBSTITUTE(SUBSTITUTE($B25,CHAR(10),""),CHAR(13),"")," ",""),CHAR(160),""),80),paieska!$B$1:$B$600,0)),"")) | E25: =IF(OR(C25="",D25=""),"",CHOOSE(SIGN(((D25="ĮGYVENDINTA")*2+(D25="TOBULINTINA"))-((C25="ĮGYVENDINTA")*2+(C25="TOBULINTINA")))+2,"▼","=","▲"))
B26: Valgyklos aplinkoje įrengti praustuvai, jų aplinka skatina higienos įpročius, rankų plovimą prieš valgį ir t.t. | C26: =IFERROR(INDEX(paieska!$C$1:$C$600,MATCH(LEFT(SUBSTITUTE(SUBSTITUTE(SUBSTITUTE(SUBSTITUTE($B26,CHAR(10),""),CHAR(13),"")," ",""),CHAR(160),""),80),paieska!$A$1:$A$600,0)),IFERROR(INDEX(paieska!$C$1:$C$600,MATCH(LEFT(SUBSTITUTE(SUBSTITUTE(SUBSTITUTE(SUBSTITUTE($B26,CHAR(10),""),CHAR(13),"")," ",""),CHAR(160),""),80),paieska!$B$1:$B$600,0)),"")) | E26: =IF(OR(C26="",D26=""),"",CHOOSE(SIGN(((D26="ĮGYVENDINTA")*2+(D26="TOBULINTINA"))-((C26="ĮGYVENDINTA")*2+(C26="TOBULINTINA")))+2,"▼","=","▲"))
B27: Mokyklos vandens apytakos sistema nuo vandens įvado iki kanalizacijos minimaliai tarši (apsaugota nuo chemikalų ir kt.). | C27: =IFERROR(INDEX(paieska!$C$1:$C$600,MATCH(LEFT(SUBSTITUTE(SUBSTITUTE(SUBSTITUTE(SUBSTITUTE($B27,CHAR(10),""),CHAR(13),"")," ",""),CHAR(160),""),80),paieska!$A$1:$A$600,0)),IFERROR(INDEX(paieska!$C$1:$C$600,MATCH(LEFT(SUBSTITUTE(SUBSTITUTE(SUBSTITUTE(SUBSTITUTE($B27,CHAR(10),""),CHAR(13),"")," ",""),CHAR(160),""),80),paieska!$B$1:$B$600,0)),"")) | E27: =IF(OR(C27="",D27=""),"",CHOOSE(SIGN(((D27="ĮGYVENDINTA")*2+(D27="TOBULINTINA"))-((C27="ĮGYVENDINTA")*2+(C27="TOBULINTINA")))+2,"▼","=","▲"))
A28: 6 kriterijus: ENERGETIKOS IR VANDENTVARKOS EDUKACIJOS INFRASTRUKTŪRA
B29: Mokiniams patrauklia forma įrengtos edukacinės priemonės supažindina su tvaria energija ir vandens taupymu. | C29: =IFERROR(INDEX(paieska!$C$1:$C$600,MATCH(LEFT(SUBSTITUTE(SUBSTITUTE(SUBSTITUTE(SUBSTITUTE($B29,CHAR(10),""),CHAR(13),"")," ",""),CHAR(160),""),80),paieska!$A$1:$A$600,0)),IFERROR(INDEX(paieska!$C$1:$C$600,MATCH(LEFT(SUBSTITUTE(SUBSTITUTE(SUBSTITUTE(SUBSTITUTE($B29,CHAR(10),""),CHAR(13),"")," ",""),CHAR(160),""),80),paieska!$B$1:$B$600,0)),"")) | E29: =IF(OR(C29="",D29=""),"",CHOOSE(SIGN(((D29="ĮGYVENDINTA")*2+(D29="TOBULINTINA"))-((C29="ĮGYVENDINTA")*2+(C29="TOBULINTINA")))+2,"▼","=","▲"))
B30: Įrengti ženklai ir plakatai, primenantys mokyklos bendruomenei apie vandens tausojimo svarbą. | C30: =IFERROR(INDEX(paieska!$C$1:$C$600,MATCH(LEFT(SUBSTITUTE(SUBSTITUTE(SUBSTITUTE(SUBSTITUTE($B30,CHAR(10),""),CHAR(13),"")," ",""),CHAR(160),""),80),paieska!$A$1:$A$600,0)),IFERROR(INDEX(paieska!$C$1:$C$600,MATCH(LEFT(SUBSTITUTE(SUBSTITUTE(SUBSTITUTE(SUBSTITUTE($B30,CHAR(10),""),CHAR(13),"")," ",""),CHAR(160),""),80),paieska!$B$1:$B$600,0)),"")) | E30: =IF(OR(C30="",D30=""),"",CHOOSE(SIGN(((D30="ĮGYVENDINTA")*2+(D30="TOBULINTINA"))-((C30="ĮGYVENDINTA")*2+(C30="TOBULINTINA")))+2,"▼","=","▲"))
A31: 7 kriterijus: BŪTINOSIOS HIGIENOS APLINKA
B32: Sudaryta galimybė bet kuriuo metu pasinaudoti dušu. | C32: =IFERROR(INDEX(paieska!$C$1:$C$600,MATCH(LEFT(SUBSTITUTE(SUBSTITUTE(SUBSTITUTE(SUBSTITUTE($B32,CHAR(10),""),CHAR(13),"")," ",""),CHAR(160),""),80),paieska!$A$1:$A$600,0)),IFERROR(INDEX(paieska!$C$1:$C$600,MATCH(LEFT(SUBSTITUTE(SUBSTITUTE(SUBSTITUTE(SUBSTITUTE($B32,CHAR(10),""),CHAR(13),"")," ",""),CHAR(160),""),80),paieska!$B$1:$B$600,0)),"")) | E32: =IF(OR(C32="",D32=""),"",CHOOSE(SIGN(((D32="ĮGYVENDINTA")*2+(D32="TOBULINTINA"))-((C32="ĮGYVENDINTA")*2+(C32="TOBULINTINA")))+2,"▼","=","▲"))
B33: Mokykloje įrengtos lyčiai neutralios higienos patalpos (unisex). | C33: =IFERROR(INDEX(paieska!$C$1:$C$600,MATCH(LEFT(SUBSTITUTE(SUBSTITUTE(SUBSTITUTE(SUBSTITUTE($B33,CHAR(10),""),CHAR(13),"")," ",""),CHAR(160),""),80),paieska!$A$1:$A$600,0)),IFERROR(INDEX(paieska!$C$1:$C$600,MATCH(LEFT(SUBSTITUTE(SUBSTITUTE(SUBSTITUTE(SUBSTITUTE($B33,CHAR(10),""),CHAR(13),"")," ",""),CHAR(160),""),80),paieska!$B$1:$B$600,0)),"")) | E33: =IF(OR(C33="",D33=""),"",CHOOSE(SIGN(((D33="ĮGYVENDINTA")*2+(D33="TOBULINTINA"))-((C33="ĮGYVENDINTA")*2+(C33="TOBULINTINA")))+2,"▼","=","▲"))
B34: Suteikiamos reikiamos higienos priemonės (pvz., įklotai) ir įrengta jų atliekų surinkimo sistema. | C34: =IFERROR(INDEX(paieska!$C$1:$C$600,MATCH(LEFT(SUBSTITUTE(SUBSTITUTE(SUBSTITUTE(SUBSTITUTE($B34,CHAR(10),""),CHAR(13),"")," ",""),CHAR(160),""),80),paieska!$A$1:$A$600,0)),IFERROR(INDEX(paieska!$C$1:$C$600,MATCH(LEFT(SUBSTITUTE(SUBSTITUTE(SUBSTITUTE(SUBSTITUTE($B34,CHAR(10),""),CHAR(13),"")," ",""),CHAR(160),""),80),paieska!$B$1:$B$600,0)),"")) | E34: =IF(OR(C34="",D34=""),"",CHOOSE(SIGN(((D34="ĮGYVENDINTA")*2+(D34="TOBULINTINA"))-((C34="ĮGYVENDINTA")*2+(C34="TOBULINTINA")))+2,"▼","=","▲"))
A35: 8 kriterijus: MAISTO GAMINIMO APLINKA
B36: Įrengtos erdvės viduje ir lauke, kur mokiniai gali maitintis savo užkandžiais. Sudarytos galimybės pasišildyti iš namų atsineštą maistą. | C36: =IFERROR(INDEX(paieska!$C$1:$C$600,MATCH(LEFT(SUBSTITUTE(SUBSTITUTE(SUBSTITUTE(SUBSTITUTE($B36,CHAR(10),""),CHAR(13),"")," ",""),CHAR(160),""),80),paieska!$A$1:$A$600,0)),IFERROR(INDEX(paieska!$C$1:$C$600,MATCH(LEFT(SUBSTITUTE(SUBSTITUTE(SUBSTITUTE(SUBSTITUTE($B36,CHAR(10),""),CHAR(13),"")," ",""),CHAR(160),""),80),paieska!$B$1:$B$600,0)),"")) | E36: =IF(OR(C36="",D36=""),"",CHOOSE(SIGN(((D36="ĮGYVENDINTA")*2+(D36="TOBULINTINA"))-((C36="ĮGYVENDINTA")*2+(C36="TOBULINTINA")))+2,"▼","=","▲"))
B37: Sudaryta galimybė mokytis maisto gaminimo technologijų, nepriklausomai nuo lyties ir amžiaus, formaliajame ir neformaliajame ugdyme. | C37: =IFERROR(INDEX(paieska!$C$1:$C$600,MATCH(LEFT(SUBSTITUTE(SUBSTITUTE(SUBSTITUTE(SUBSTITUTE($B37,CHAR(10),""),CHAR(13),"")," ",""),CHAR(160),""),80),paieska!$A$1:$A$600,0)),IFERROR(INDEX(paieska!$C$1:$C$600,MATCH(LEFT(SUBSTITUTE(SUBSTITUTE(SUBSTITUTE(SUBSTITUTE($B37,CHAR(10),""),CHAR(13),"")," ",""),CHAR(160),""),80),paieska!$B$1:$B$600,0)),"")) | E37: =IF(OR(C37="",D37=""),"",CHOOSE(SIGN(((D37="ĮGYVENDINTA")*2+(D37="TOBULINTINA"))-((C37="ĮGYVENDINTA")*2+(C37="TOBULINTINA")))+2,"▼","=","▲"))
B38: Mokyklos maisto ruošimo technologijų klasės aprūpintos šiuolaikine maisto gaminimo, pateikimo įranga ir priemonėmis, laikantis tvarumo reikalavimų (energetinė klasė, žaliasis pasirinkimas, nenaudojami vienkartiniai indai ir pan.). | C38: =IFERROR(INDEX(paieska!$C$1:$C$600,MATCH(LEFT(SUBSTITUTE(SUBSTITUTE(SUBSTITUTE(SUBSTITUTE($B38,CHAR(10),""),CHAR(13),"")," ",""),CHAR(160),""),80),paieska!$A$1:$A$600,0)),IFERROR(INDEX(paieska!$C$1:$C$600,MATCH(LEFT(SUBSTITUTE(SUBSTITUTE(SUBSTITUTE(SUBSTITUTE($B38,CHAR(10),""),CHAR(13),"")," ",""),CHAR(160),""),80),paieska!$B$1:$B$600,0)),"")) | E38: =IF(OR(C38="",D38=""),"",CHOOSE(SIGN(((D38="ĮGYVENDINTA")*2+(D38="TOBULINTINA"))-((C38="ĮGYVENDINTA")*2+(C38="TOBULINTINA")))+2,"▼","=","▲"))
A39: 9 kriterijus: KITI MOKYKLOS IŠTEKLIŲ TAUSOJIMO IR PRIEINAMUMO RODIKLIAI
A40: 2 sritis. Judumas | C40: 2024 m. statusas | D40: 2026 m. statusas | E40: Pokytis
A41: 1 kriterijus: TVARI KELIONĖ Į MOKYKLĄ
B42: Sukurtos mokyklos aplinkos jungtys su miesto judumo sistema taikant tvarumo principus (saugios, pritaikytos pėstiesiems ir tvariam transportui). Įrengti pėsčiųjų ir dviračių takai už mokyklos teritorijos | C42: =IFERROR(INDEX(paieska!$C$1:$C$600,MATCH(LEFT(SUBSTITUTE(SUBSTITUTE(SUBSTITUTE(SUBSTITUTE($B42,CHAR(10),""),CHAR(13),"")," ",""),CHAR(160),""),80),paieska!$A$1:$A$600,0)),IFERROR(INDEX(paieska!$C$1:$C$600,MATCH(LEFT(SUBSTITUTE(SUBSTITUTE(SUBSTITUTE(SUBSTITUTE($B42,CHAR(10),""),CHAR(13),"")," ",""),CHAR(160),""),80),paieska!$B$1:$B$600,0)),"")) | E42: =IF(OR(C42="",D42=""),"",CHOOSE(SIGN(((D42="ĮGYVENDINTA")*2+(D42="TOBULINTINA"))-((C42="ĮGYVENDINTA")*2+(C42="TOBULINTINA")))+2,"▼","=","▲"))
B43: Įrengtos patogios saugyklos dviračiams, paspirtukams, riedlentėms (pakanka vietų, patogios, saugios, su stogeliu). | C43: =IFERROR(INDEX(paieska!$C$1:$C$600,MATCH(LEFT(SUBSTITUTE(SUBSTITUTE(SUBSTITUTE(SUBSTITUTE($B43,CHAR(10),""),CHAR(13),"")," ",""),CHAR(160),""),80),paieska!$A$1:$A$600,0)),IFERROR(INDEX(paieska!$C$1:$C$600,MATCH(LEFT(SUBSTITUTE(SUBSTITUTE(SUBSTITUTE(SUBSTITUTE($B43,CHAR(10),""),CHAR(13),"")," ",""),CHAR(160),""),80),paieska!$B$1:$B$600,0)),"")) | E43: =IF(OR(C43="",D43=""),"",CHOOSE(SIGN(((D43="ĮGYVENDINTA")*2+(D43="TOBULINTINA"))-((C43="ĮGYVENDINTA")*2+(C43="TOBULINTINA")))+2,"▼","=","▲"))
B44: Skatinama naudotis viešuoju transportu/pavežėjimo mokyklos transportu sistema (pvz., viešojo transporto subsidijos mokytojams). | C44: =IFERROR(INDEX(paieska!$C$1:$C$600,MATCH(LEFT(SUBSTITUTE(SUBSTITUTE(SUBSTITUTE(SUBSTITUTE($B44,CHAR(10),""),CHAR(13),"")," ",""),CHAR(160),""),80),paieska!$A$1:$A$600,0)),IFERROR(INDEX(paieska!$C$1:$C$600,MATCH(LEFT(SUBSTITUTE(SUBSTITUTE(SUBSTITUTE(SUBSTITUTE($B44,CHAR(10),""),CHAR(13),"")," ",""),CHAR(160),""),80),paieska!$B$1:$B$600,0)),"")) | E44: =IF(OR(C44="",D44=""),"",CHOOSE(SIGN(((D44="ĮGYVENDINTA")*2+(D44="TOBULINTINA"))-((C44="ĮGYVENDINTA")*2+(C44="TOBULINTINA")))+2,"▼","=","▲"))
B45: Bendra mokinių ir darbuotojų važiavimo asmeniniais automobiliais sistema. Mokyklos bendruomenės nariams teikiama paskata už mokinių/kolegų atvežimą. | C45: =IFERROR(INDEX(paieska!$C$1:$C$600,MATCH(LEFT(SUBSTITUTE(SUBSTITUTE(SUBSTITUTE(SUBSTITUTE($B45,CHAR(10),""),CHAR(13),"")," ",""),CHAR(160),""),80),paieska!$A$1:$A$600,0)),IFERROR(INDEX(paieska!$C$1:$C$600,MATCH(LEFT(SUBSTITUTE(SUBSTITUTE(SUBSTITUTE(SUBSTITUTE($B45,CHAR(10),""),CHAR(13),"")," ",""),CHAR(160),""),80),paieska!$B$1:$B$600,0)),"")) | E45: =IF(OR(C45="",D45=""),"",CHOOSE(SIGN(((D45="ĮGYVENDINTA")*2+(D45="TOBULINTINA"))-((C45="ĮGYVENDINTA")*2+(C45="TOBULINTINA")))+2,"▼","=","▲"))
B46: Sukurta elektromobilumo sistema: laikymo vietos ir įkrovimo stotelės. | C46: =IFERROR(INDEX(paieska!$C$1:$C$600,MATCH(LEFT(SUBSTITUTE(SUBSTITUTE(SUBSTITUTE(SUBSTITUTE($B46,CHAR(10),""),CHAR(13),"")," ",""),CHAR(160),""),80),paieska!$A$1:$A$600,0)),IFERROR(INDEX(paieska!$C$1:$C$600,MATCH(LEFT(SUBSTITUTE(SUBSTITUTE(SUBSTITUTE(SUBSTITUTE($B46,CHAR(10),""),CHAR(13),"")," ",""),CHAR(160),""),80),paieska!$B$1:$B$600,0)),"")) | E46: =IF(OR(C46="",D46=""),"",CHOOSE(SIGN(((D46="ĮGYVENDINTA")*2+(D46="TOBULINTINA"))-((C46="ĮGYVENDINTA")*2+(C46="TOBULINTINA")))+2,"▼","=","▲"))
B47: Sukurta dviračių ir kitų transporto priemonių dalijimosi sistema mokyklos bendruomenei. | C47: =IFERROR(INDEX(paieska!$C$1:$C$600,MATCH(LEFT(SUBSTITUTE(SUBSTITUTE(SUBSTITUTE(SUBSTITUTE($B47,CHAR(10),""),CHAR(13),"")," ",""),CHAR(160),""),80),paieska!$A$1:$A$600,0)),IFERROR(INDEX(paieska!$C$1:$C$600,MATCH(LEFT(SUBSTITUTE(SUBSTITUTE(SUBSTITUTE(SUBSTITUTE($B47,CHAR(10),""),CHAR(13),"")," ",""),CHAR(160),""),80),paieska!$B$1:$B$600,0)),"")) | E47: =IF(OR(C47="",D47=""),"",CHOOSE(SIGN(((D47="ĮGYVENDINTA")*2+(D47="TOBULINTINA"))-((C47="ĮGYVENDINTA")*2+(C47="TOBULINTINA")))+2,"▼","=","▲"))
B48: Mokiniai supažindinami su dviračio gedimais ir jų taisymu, įrengta dviračių savarankiška taisykla. | C48: =IFERROR(INDEX(paieska!$C$1:$C$600,MATCH(LEFT(SUBSTITUTE(SUBSTITUTE(SUBSTITUTE(SUBSTITUTE($B48,CHAR(10),""),CHAR(13),"")," ",""),CHAR(160),""),80),paieska!$A$1:$A$600,0)),IFERROR(INDEX(paieska!$C$1:$C$600,MATCH(LEFT(SUBSTITUTE(SUBSTITUTE(SUBSTITUTE(SUBSTITUTE($B48,CHAR(10),""),CHAR(13),"")," ",""),CHAR(160),""),80),paieska!$B$1:$B$600,0)),"")) | E48: =IF(OR(C48="",D48=""),"",CHOOSE(SIGN(((D48="ĮGYVENDINTA")*2+(D48="TOBULINTINA"))-((C48="ĮGYVENDINTA")*2+(C48="TOBULINTINA")))+2,"▼","=","▲"))
B49: Bendruomenės nariai skatinami už tvarios kelionės į mokyklą pasiekimus. | C49: =IFERROR(INDEX(paieska!$C$1:$C$600,MATCH(LEFT(SUBSTITUTE(SUBSTITUTE(SUBSTITUTE(SUBSTITUTE($B49,CHAR(10),""),CHAR(13),"")," ",""),CHAR(160),""),80),paieska!$A$1:$A$600,0)),IFERROR(INDEX(paieska!$C$1:$C$600,MATCH(LEFT(SUBSTITUTE(SUBSTITUTE(SUBSTITUTE(SUBSTITUTE($B49,CHAR(10),""),CHAR(13),"")," ",""),CHAR(160),""),80),paieska!$B$1:$B$600,0)),"")) | E49: =IF(OR(C49="",D49=""),"",CHOOSE(SIGN(((D49="ĮGYVENDINTA")*2+(D49="TOBULINTINA"))-((C49="ĮGYVENDINTA")*2+(C49="TOBULINTINA")))+2,"▼","=","▲"))
A50: 2 kriterijus: JUDUMO INFRASTRUKTŪROS TVARUMAS
B51: Tvarus mokyklos transporto priemonių ūkis ir panaudojimas (mažiau taršių transporto priemonių pasirinkimas). | C51: =IFERROR(INDEX(paieska!$C$1:$C$600,MATCH(LEFT(SUBSTITUTE(SUBSTITUTE(SUBSTITUTE(SUBSTITUTE($B51,CHAR(10),""),CHAR(13),"")," ",""),CHAR(160),""),80),paieska!$A$1:$A$600,0)),IFERROR(INDEX(paieska!$C$1:$C$600,MATCH(LEFT(SUBSTITUTE(SUBSTITUTE(SUBSTITUTE(SUBSTITUTE($B51,CHAR(10),""),CHAR(13),"")," ",""),CHAR(160),""),80),paieska!$B$1:$B$600,0)),"")) | E51: =IF(OR(C51="",D51=""),"",CHOOSE(SIGN(((D51="ĮGYVENDINTA")*2+(D51="TOBULINTINA"))-((C51="ĮGYVENDINTA")*2+(C51="TOBULINTINA")))+2,"▼","=","▲"))
B52: Atitvarų, žaliųjų zonų kūrimas greta kelių, sporto aikštynų (įskaitant priešvėjines, priešerozinės ir kt. priemones) | C52: =IFERROR(INDEX(paieska!$C$1:$C$600,MATCH(LEFT(SUBSTITUTE(SUBSTITUTE(SUBSTITUTE(SUBSTITUTE($B52,CHAR(10),""),CHAR(13),"")," ",""),CHAR(160),""),80),paieska!$A$1:$A$600,0)),IFERROR(INDEX(paieska!$C$1:$C$600,MATCH(LEFT(SUBSTITUTE(SUBSTITUTE(SUBSTITUTE(SUBSTITUTE($B52,CHAR(10),""),CHAR(13),"")," ",""),CHAR(160),""),80),paieska!$B$1:$B$600,0)),"")) | E52: =IF(OR(C52="",D52=""),"",CHOOSE(SIGN(((D52="ĮGYVENDINTA")*2+(D52="TOBULINTINA"))-((C52="ĮGYVENDINTA")*2+(C52="TOBULINTINA")))+2,"▼","=","▲"))
B53: Judumo infrastruktūros kūrimui, naudojamos tvarios medžiagos ir priemonės. | C53: =IFERROR(INDEX(paieska!$C$1:$C$600,MATCH(LEFT(SUBSTITUTE(SUBSTITUTE(SUBSTITUTE(SUBSTITUTE($B53,CHAR(10),""),CHAR(13),"")," ",""),CHAR(160),""),80),paieska!$A$1:$A$600,0)),IFERROR(INDEX(paieska!$C$1:$C$600,MATCH(LEFT(SUBSTITUTE(SUBSTITUTE(SUBSTITUTE(SUBSTITUTE($B53,CHAR(10),""),CHAR(13),"")," ",""),CHAR(160),""),80),paieska!$B$1:$B$600,0)),"")) | E53: =IF(OR(C53="",D53=""),"",CHOOSE(SIGN(((D53="ĮGYVENDINTA")*2+(D53="TOBULINTINA"))-((C53="ĮGYVENDINTA")*2+(C53="TOBULINTINA")))+2,"▼","=","▲"))
B54: Judumo infrastruktūra pritaikyta specialius poreikius turintiems bendruomenės nariams. | C54: =IFERROR(INDEX(paieska!$C$1:$C$600,MATCH(LEFT(SUBSTITUTE(SUBSTITUTE(SUBSTITUTE(SUBSTITUTE($B54,CHAR(10),""),CHAR(13),"")," ",""),CHAR(160),""),80),paieska!$A$1:$A$600,0)),IFERROR(INDEX(paieska!$C$1:$C$600,MATCH(LEFT(SUBSTITUTE(SUBSTITUTE(SUBSTITUTE(SUBSTITUTE($B54,CHAR(10),""),CHAR(13),"")," ",""),CHAR(160),""),80),paieska!$B$1:$B$600,0)),"")) | E54: =IF(OR(C54="",D54=""),"",CHOOSE(SIGN(((D54="ĮGYVENDINTA")*2+(D54="TOBULINTINA"))-((C54="ĮGYVENDINTA")*2+(C54="TOBULINTINA")))+2,"▼","=","▲"))
A55: 3 kriterijus: JUDUMO STEBĖSENA
B56: Mokyklos bendruomenė kuria savo darnaus judumo planą. Judumo infrastruktūra, nuolat atnaujinama. | C56: =IFERROR(INDEX(paieska!$C$1:$C$600,MATCH(LEFT(SUBSTITUTE(SUBSTITUTE(SUBSTITUTE(SUBSTITUTE($B56,CHAR(10),""),CHAR(13),"")," ",""),CHAR(160),""),80),paieska!$A$1:$A$600,0)),IFERROR(INDEX(paieska!$C$1:$C$600,MATCH(LEFT(SUBSTITUTE(SUBSTITUTE(SUBSTITUTE(SUBSTITUTE($B56,CHAR(10),""),CHAR(13),"")," ",""),CHAR(160),""),80),paieska!$B$1:$B$600,0)),"")) | E56: =IF(OR(C56="",D56=""),"",CHOOSE(SIGN(((D56="ĮGYVENDINTA")*2+(D56="TOBULINTINA"))-((C56="ĮGYVENDINTA")*2+(C56="TOBULINTINA")))+2,"▼","=","▲"))
B57: Mokyklos integruotos į savivaldybių judumo priemonių planus. | C57: =IFERROR(INDEX(paieska!$C$1:$C$600,MATCH(LEFT(SUBSTITUTE(SUBSTITUTE(SUBSTITUTE(SUBSTITUTE($B57,CHAR(10),""),CHAR(13),"")," ",""),CHAR(160),""),80),paieska!$A$1:$A$600,0)),IFERROR(INDEX(paieska!$C$1:$C$600,MATCH(LEFT(SUBSTITUTE(SUBSTITUTE(SUBSTITUTE(SUBSTITUTE($B57,CHAR(10),""),CHAR(13),"")," ",""),CHAR(160),""),80),paieska!$B$1:$B$600,0)),"")) | E57: =IF(OR(C57="",D57=""),"",CHOOSE(SIGN(((D57="ĮGYVENDINTA")*2+(D57="TOBULINTINA"))-((C57="ĮGYVENDINTA")*2+(C57="TOBULINTINA")))+2,"▼","=","▲"))
B58: Viešai pasiekiami stebėsenos duomenys apie mokyklos bendruomenės narių judumo įpročius (kiek į mokyklą atvyksta automobiliu, pėsčiomis, netaršiu transportu) ir jų pokyčius. | C58: =IFERROR(INDEX(paieska!$C$1:$C$600,MATCH(LEFT(SUBSTITUTE(SUBSTITUTE(SUBSTITUTE(SUBSTITUTE($B58,CHAR(10),""),CHAR(13),"")," ",""),CHAR(160),""),80),paieska!$A$1:$A$600,0)),IFERROR(INDEX(paieska!$C$1:$C$600,MATCH(LEFT(SUBSTITUTE(SUBSTITUTE(SUBSTITUTE(SUBSTITUTE($B58,CHAR(10),""),CHAR(13),"")," ",""),CHAR(160),""),80),paieska!$B$1:$B$600,0)),"")) | E58: =IF(OR(C58="",D58=""),"",CHOOSE(SIGN(((D58="ĮGYVENDINTA")*2+(D58="TOBULINTINA"))-((C58="ĮGYVENDINTA")*2+(C58="TOBULINTINA")))+2,"▼","=","▲"))
B59: Mokykla vadovaujasi aktyvumą skatinančios mokyklos kūrimo rekomendacijomis „Aktyvi mokykla“. | C59: =IFERROR(INDEX(paieska!$C$1:$C$600,MATCH(LEFT(SUBSTITUTE(SUBSTITUTE(SUBSTITUTE(SUBSTITUTE($B59,CHAR(10),""),CHAR(13),"")," ",""),CHAR(160),""),80),paieska!$A$1:$A$600,0)),IFERROR(INDEX(paieska!$C$1:$C$600,MATCH(LEFT(SUBSTITUTE(SUBSTITUTE(SUBSTITUTE(SUBSTITUTE($B59,CHAR(10),""),CHAR(13),"")," ",""),CHAR(160),""),80),paieska!$B$1:$B$600,0)),"")) | E59: =IF(OR(C59="",D59=""),"",CHOOSE(SIGN(((D59="ĮGYVENDINTA")*2+(D59="TOBULINTINA"))-((C59="ĮGYVENDINTA")*2+(C59="TOBULINTINA")))+2,"▼","=","▲"))
A60: 4 kriterijus: JUDUMO EDUKACIJA
B61: Sukurta efektyvi judumo, pažintinių, sveikatinimo takų sistema mokyklos aplinkoje. | C61: =IFERROR(INDEX(paieska!$C$1:$C$600,MATCH(LEFT(SUBSTITUTE(SUBSTITUTE(SUBSTITUTE(SUBSTITUTE($B61,CHAR(10),""),CHAR(13),"")," ",""),CHAR(160),""),80),paieska!$A$1:$A$600,0)),IFERROR(INDEX(paieska!$C$1:$C$600,MATCH(LEFT(SUBSTITUTE(SUBSTITUTE(SUBSTITUTE(SUBSTITUTE($B61,CHAR(10),""),CHAR(13),"")," ",""),CHAR(160),""),80),paieska!$B$1:$B$600,0)),"")) | E61: =IF(OR(C61="",D61=""),"",CHOOSE(SIGN(((D61="ĮGYVENDINTA")*2+(D61="TOBULINTINA"))-((C61="ĮGYVENDINTA")*2+(C61="TOBULINTINA")))+2,"▼","=","▲"))
B62: Takai ženklinti, jų stotelėse yra informaciniai, universalaus dizaino stendai, plakatai, objektai, interaktyvios priemonės. | C62: =IFERROR(INDEX(paieska!$C$1:$C$600,MATCH(LEFT(SUBSTITUTE(SUBSTITUTE(SUBSTITUTE(SUBSTITUTE($B62,CHAR(10),""),CHAR(13),"")," ",""),CHAR(160),""),80),paieska!$A$1:$A$600,0)),IFERROR(INDEX(paieska!$C$1:$C$600,MATCH(LEFT(SUBSTITUTE(SUBSTITUTE(SUBSTITUTE(SUBSTITUTE($B62,CHAR(10),""),CHAR(13),"")," ",""),CHAR(160),""),80),paieska!$B$1:$B$600,0)),"")) | E62: =IF(OR(C62="",D62=""),"",CHOOSE(SIGN(((D62="ĮGYVENDINTA")*2+(D62="TOBULINTINA"))-((C62="ĮGYVENDINTA")*2+(C62="TOBULINTINA")))+2,"▼","=","▲"))
B63: Informacija stenduose apie viešojo transporto grafikus, žemėlapiai ir kt. | C63: =IFERROR(INDEX(paieska!$C$1:$C$600,MATCH(LEFT(SUBSTITUTE(SUBSTITUTE(SUBSTITUTE(SUBSTITUTE($B63,CHAR(10),""),CHAR(13),"")," ",""),CHAR(160),""),80),paieska!$A$1:$A$600,0)),IFERROR(INDEX(paieska!$C$1:$C$600,MATCH(LEFT(SUBSTITUTE(SUBSTITUTE(SUBSTITUTE(SUBSTITUTE($B63,CHAR(10),""),CHAR(13),"")," ",""),CHAR(160),""),80),paieska!$B$1:$B$600,0)),"")) | E63: =IF(OR(C63="",D63=""),"",CHOOSE(SIGN(((D63="ĮGYVENDINTA")*2+(D63="TOBULINTINA"))-((C63="ĮGYVENDINTA")*2+(C63="TOBULINTINA")))+2,"▼","=","▲"))
B64: Vykdoma viešojo transporto saugos, etikos ir elgesio edukacija. | C64: =IFERROR(INDEX(paieska!$C$1:$C$600,MATCH(LEFT(SUBSTITUTE(SUBSTITUTE(SUBSTITUTE(SUBSTITUTE($B64,CHAR(10),""),CHAR(13),"")," ",""),CHAR(160),""),80),paieska!$A$1:$A$600,0)),IFERROR(INDEX(paieska!$C$1:$C$600,MATCH(LEFT(SUBSTITUTE(SUBSTITUTE(SUBSTITUTE(SUBSTITUTE($B64,CHAR(10),""),CHAR(13),"")," ",""),CHAR(160),""),80),paieska!$B$1:$B$600,0)),"")) | E64: =IF(OR(C64="",D64=""),"",CHOOSE(SIGN(((D64="ĮGYVENDINTA")*2+(D64="TOBULINTINA"))-((C64="ĮGYVENDINTA")*2+(C64="TOBULINTINA")))+2,"▼","=","▲"))
A65: 5 kriterijus: SAUGUS EISMAS
B66: Įrengtos priemonės saugiam eismui užtikrinti (apšvietimas,perėjos ir t.t.). | C66: =IFERROR(INDEX(paieska!$C$1:$C$600,MATCH(LEFT(SUBSTITUTE(SUBSTITUTE(SUBSTITUTE(SUBSTITUTE($B66,CHAR(10),""),CHAR(13),"")," ",""),CHAR(160),""),80),paieska!$A$1:$A$600,0)),IFERROR(INDEX(paieska!$C$1:$C$600,MATCH(LEFT(SUBSTITUTE(SUBSTITUTE(SUBSTITUTE(SUBSTITUTE($B66,CHAR(10),""),CHAR(13),"")," ",""),CHAR(160),""),80),paieska!$B$1:$B$600,0)),"")) | E66: =IF(OR(C66="",D66=""),"",CHOOSE(SIGN(((D66="ĮGYVENDINTA")*2+(D66="TOBULINTINA"))-((C66="ĮGYVENDINTA")*2+(C66="TOBULINTINA")))+2,"▼","=","▲"))
B67: Kuriamos vienodos miesto ir kaimo saugaus eismo galimybės(pav.: šaligatviai, perėjos). | C67: =IFERROR(INDEX(paieska!$C$1:$C$600,MATCH(LEFT(SUBSTITUTE(SUBSTITUTE(SUBSTITUTE(SUBSTITUTE($B67,CHAR(10),""),CHAR(13),"")," ",""),CHAR(160),""),80),paieska!$A$1:$A$600,0)),IFERROR(INDEX(paieska!$C$1:$C$600,MATCH(LEFT(SUBSTITUTE(SUBSTITUTE(SUBSTITUTE(SUBSTITUTE($B67,CHAR(10),""),CHAR(13),"")," ",""),CHAR(160),""),80),paieska!$B$1:$B$600,0)),"")) | E67: =IF(OR(C67="",D67=""),"",CHOOSE(SIGN(((D67="ĮGYVENDINTA")*2+(D67="TOBULINTINA"))-((C67="ĮGYVENDINTA")*2+(C67="TOBULINTINA")))+2,"▼","=","▲"))
B68: Įrengtos saugaus eismo edukacinės erdvės lauke ar viduje | C68: =IFERROR(INDEX(paieska!$C$1:$C$600,MATCH(LEFT(SUBSTITUTE(SUBSTITUTE(SUBSTITUTE(SUBSTITUTE($B68,CHAR(10),""),CHAR(13),"")," ",""),CHAR(160),""),80),paieska!$A$1:$A$600,0)),IFERROR(INDEX(paieska!$C$1:$C$600,MATCH(LEFT(SUBSTITUTE(SUBSTITUTE(SUBSTITUTE(SUBSTITUTE($B68,CHAR(10),""),CHAR(13),"")," ",""),CHAR(160),""),80),paieska!$B$1:$B$600,0)),"")) | E68: =IF(OR(C68="",D68=""),"",CHOOSE(SIGN(((D68="ĮGYVENDINTA")*2+(D68="TOBULINTINA"))-((C68="ĮGYVENDINTA")*2+(C68="TOBULINTINA")))+2,"▼","=","▲"))
B69: Puoselėjama mokinių saugaus eismo kultūra | C69: =IFERROR(INDEX(paieska!$C$1:$C$600,MATCH(LEFT(SUBSTITUTE(SUBSTITUTE(SUBSTITUTE(SUBSTITUTE($B69,CHAR(10),""),CHAR(13),"")," ",""),CHAR(160),""),80),paieska!$A$1:$A$600,0)),IFERROR(INDEX(paieska!$C$1:$C$600,MATCH(LEFT(SUBSTITUTE(SUBSTITUTE(SUBSTITUTE(SUBSTITUTE($B69,CHAR(10),""),CHAR(13),"")," ",""),CHAR(160),""),80),paieska!$B$1:$B$600,0)),"")) | E69: =IF(OR(C69="",D69=""),"",CHOOSE(SIGN(((D69="ĮGYVENDINTA")*2+(D69="TOBULINTINA"))-((C69="ĮGYVENDINTA")*2+(C69="TOBULINTINA")))+2,"▼","=","▲"))
A70: 6 kriterijus: KITI MOKYKLOSTVARAUS JUDUMO RODIKLIAI
B71: Mokykla inicijuoja ir kuria unikalias, savo aplinkai pritaikytas tvaraus judumo priemones. | C71: =IFERROR(INDEX(paieska!$C$1:$C$600,MATCH(LEFT(SUBSTITUTE(SUBSTITUTE(SUBSTITUTE(SUBSTITUTE($B71,CHAR(10),""),CHAR(13),"")," ",""),CHAR(160),""),80),paieska!$A$1:$A$600,0)),IFERROR(INDEX(paieska!$C$1:$C$600,MATCH(LEFT(SUBSTITUTE(SUBSTITUTE(SUBSTITUTE(SUBSTITUTE($B71,CHAR(10),""),CHAR(13),"")," ",""),CHAR(160),""),80),paieska!$B$1:$B$600,0)),"")) | E71: =IF(OR(C71="",D71=""),"",CHOOSE(SIGN(((D71="ĮGYVENDINTA")*2+(D71="TOBULINTINA"))-((C71="ĮGYVENDINTA")*2+(C71="TOBULINTINA")))+2,"▼","=","▲"))
A72: 3 sritis. Bendruomenės įtraukimas | C72: 2024 m. statusas | D72: 2026 m. statusas | E72: Pokytis
A73: 1 kriterijus: BENDRUOMENIŠKUMO SKATINIMAS
B74: Mokiniai ir gyvenamosios vietos bendruomenė dalyvauja edukacinių erdvių ir ugdymo turinio jose planavime ir kūrime. | C74: =IFERROR(INDEX(paieska!$C$1:$C$600,MATCH(LEFT(SUBSTITUTE(SUBSTITUTE(SUBSTITUTE(SUBSTITUTE($B74,CHAR(10),""),CHAR(13),"")," ",""),CHAR(160),""),80),paieska!$A$1:$A$600,0)),IFERROR(INDEX(paieska!$C$1:$C$600,MATCH(LEFT(SUBSTITUTE(SUBSTITUTE(SUBSTITUTE(SUBSTITUTE($B74,CHAR(10),""),CHAR(13),"")," ",""),CHAR(160),""),80),paieska!$B$1:$B$600,0)),"")) | E74: =IF(OR(C74="",D74=""),"",CHOOSE(SIGN(((D74="ĮGYVENDINTA")*2+(D74="TOBULINTINA"))-((C74="ĮGYVENDINTA")*2+(C74="TOBULINTINA")))+2,"▼","=","▲"))
B75: Mokykla bendradarbiauja su partneriais (savivaldybė, rėmėjai, saugomų teritorijų direkcijos, ekspertai ir kt.) kurdami tvarumoiniciatyvas. | C75: =IFERROR(INDEX(paieska!$C$1:$C$600,MATCH(LEFT(SUBSTITUTE(SUBSTITUTE(SUBSTITUTE(SUBSTITUTE($B75,CHAR(10),""),CHAR(13),"")," ",""),CHAR(160),""),80),paieska!$A$1:$A$600,0)),IFERROR(INDEX(paieska!$C$1:$C$600,MATCH(LEFT(SUBSTITUTE(SUBSTITUTE(SUBSTITUTE(SUBSTITUTE($B75,CHAR(10),""),CHAR(13),"")," ",""),CHAR(160),""),80),paieska!$B$1:$B$600,0)),"")) | E75: =IF(OR(C75="",D75=""),"",CHOOSE(SIGN(((D75="ĮGYVENDINTA")*2+(D75="TOBULINTINA"))-((C75="ĮGYVENDINTA")*2+(C75="TOBULINTINA")))+2,"▼","=","▲"))
B76: Puoselėjamos mokyklos tradicijos ir kuriamos naujos. | C76: =IFERROR(INDEX(paieska!$C$1:$C$600,MATCH(LEFT(SUBSTITUTE(SUBSTITUTE(SUBSTITUTE(SUBSTITUTE($B76,CHAR(10),""),CHAR(13),"")," ",""),CHAR(160),""),80),paieska!$A$1:$A$600,0)),IFERROR(INDEX(paieska!$C$1:$C$600,MATCH(LEFT(SUBSTITUTE(SUBSTITUTE(SUBSTITUTE(SUBSTITUTE($B76,CHAR(10),""),CHAR(13),"")," ",""),CHAR(160),""),80),paieska!$B$1:$B$600,0)),"")) | E76: =IF(OR(C76="",D76=""),"",CHOOSE(SIGN(((D76="ĮGYVENDINTA")*2+(D76="TOBULINTINA"))-((C76="ĮGYVENDINTA")*2+(C76="TOBULINTINA")))+2,"▼","=","▲"))
B77: Skatinamas mokinių kūrybiškumas ir tvarus verslumas (vystomi amatai, mainai ir kt.). | C77: =IFERROR(INDEX(paieska!$C$1:$C$600,MATCH(LEFT(SUBSTITUTE(SUBSTITUTE(SUBSTITUTE(SUBSTITUTE($B77,CHAR(10),""),CHAR(13),"")," ",""),CHAR(160),""),80),paieska!$A$1:$A$600,0)),IFERROR(INDEX(paieska!$C$1:$C$600,MATCH(LEFT(SUBSTITUTE(SUBSTITUTE(SUBSTITUTE(SUBSTITUTE($B77,CHAR(10),""),CHAR(13),"")," ",""),CHAR(160),""),80),paieska!$B$1:$B$600,0)),"")) | E77: =IF(OR(C77="",D77=""),"",CHOOSE(SIGN(((D77="ĮGYVENDINTA")*2+(D77="TOBULINTINA"))-((C77="ĮGYVENDINTA")*2+(C77="TOBULINTINA")))+2,"▼","=","▲"))
B78: Bendruomenės narių pasiekimai yra vertinami, viešinami ir skatinami. | C78: =IFERROR(INDEX(paieska!$C$1:$C$600,MATCH(LEFT(SUBSTITUTE(SUBSTITUTE(SUBSTITUTE(SUBSTITUTE($B78,CHAR(10),""),CHAR(13),"")," ",""),CHAR(160),""),80),paieska!$A$1:$A$600,0)),IFERROR(INDEX(paieska!$C$1:$C$600,MATCH(LEFT(SUBSTITUTE(SUBSTITUTE(SUBSTITUTE(SUBSTITUTE($B78,CHAR(10),""),CHAR(13),"")," ",""),CHAR(160),""),80),paieska!$B$1:$B$600,0)),"")) | E78: =IF(OR(C78="",D78=""),"",CHOOSE(SIGN(((D78="ĮGYVENDINTA")*2+(D78="TOBULINTINA"))-((C78="ĮGYVENDINTA")*2+(C78="TOBULINTINA")))+2,"▼","=","▲"))
B79: Vystoma savanorystė, socialinė veikla (senelių namuose, gyvūnų prieglaudose ir kt.). | C79: =IFERROR(INDEX(paieska!$C$1:$C$600,MATCH(LEFT(SUBSTITUTE(SUBSTITUTE(SUBSTITUTE(SUBSTITUTE($B79,CHAR(10),""),CHAR(13),"")," ",""),CHAR(160),""),80),paieska!$A$1:$A$600,0)),IFERROR(INDEX(paieska!$C$1:$C$600,MATCH(LEFT(SUBSTITUTE(SUBSTITUTE(SUBSTITUTE(SUBSTITUTE($B79,CHAR(10),""),CHAR(13),"")," ",""),CHAR(160),""),80),paieska!$B$1:$B$600,0)),"")) | E79: =IF(OR(C79="",D79=""),"",CHOOSE(SIGN(((D79="ĮGYVENDINTA")*2+(D79="TOBULINTINA"))-((C79="ĮGYVENDINTA")*2+(C79="TOBULINTINA")))+2,"▼","=","▲"))
B80: Užtikrinamas mokyklos bendruomenės grįžtamasis ryšys apie tvarumo iniciatyvas. | C80: =IFERROR(INDEX(paieska!$C$1:$C$600,MATCH(LEFT(SUBSTITUTE(SUBSTITUTE(SUBSTITUTE(SUBSTITUTE($B80,CHAR(10),""),CHAR(13),"")," ",""),CHAR(160),""),80),paieska!$A$1:$A$600,0)),IFERROR(INDEX(paieska!$C$1:$C$600,MATCH(LEFT(SUBSTITUTE(SUBSTITUTE(SUBSTITUTE(SUBSTITUTE($B80,CHAR(10),""),CHAR(13),"")," ",""),CHAR(160),""),80),paieska!$B$1:$B$600,0)),"")) | E80: =IF(OR(C80="",D80=""),"",CHOOSE(SIGN(((D80="ĮGYVENDINTA")*2+(D80="TOBULINTINA"))-((C80="ĮGYVENDINTA")*2+(C80="TOBULINTINA")))+2,"▼","=","▲"))
A81: 2 kriterijus: PSICHOLOGINĖ GEROVĖ IR LYGIOS GALIMYBĖS
B82: Vadovaujamasi visiems žinomomis bendro gyvenimo ir nesmurtinės kultūros taisyklėmis. Taisyklės viešinamos matomoje vietoje, visa bendruomenė dalyvauja jų kūrime. | C82: =IFERROR(INDEX(paieska!$C$1:$C$600,MATCH(LEFT(SUBSTITUTE(SUBSTITUTE(SUBSTITUTE(SUBSTITUTE($B82,CHAR(10),""),CHAR(13),"")," ",""),CHAR(160),""),80),paieska!$A$1:$A$600,0)),IFERROR(INDEX(paieska!$C$1:$C$600,MATCH(LEFT(SUBSTITUTE(SUBSTITUTE(SUBSTITUTE(SUBSTITUTE($B82,CHAR(10),""),CHAR(13),"")," ",""),CHAR(160),""),80),paieska!$B$1:$B$600,0)),"")) | E82: =IF(OR(C82="",D82=""),"",CHOOSE(SIGN(((D82="ĮGYVENDINTA")*2+(D82="TOBULINTINA"))-((C82="ĮGYVENDINTA")*2+(C82="TOBULINTINA")))+2,"▼","=","▲"))
B83: Sudaryti krizių intervencijos planai ir protokolai efektyviam psichikos sveikatos ir psichologinių problemų sprendimui. | C83: =IFERROR(INDEX(paieska!$C$1:$C$600,MATCH(LEFT(SUBSTITUTE(SUBSTITUTE(SUBSTITUTE(SUBSTITUTE($B83,CHAR(10),""),CHAR(13),"")," ",""),CHAR(160),""),80),paieska!$A$1:$A$600,0)),IFERROR(INDEX(paieska!$C$1:$C$600,MATCH(LEFT(SUBSTITUTE(SUBSTITUTE(SUBSTITUTE(SUBSTITUTE($B83,CHAR(10),""),CHAR(13),"")," ",""),CHAR(160),""),80),paieska!$B$1:$B$600,0)),"")) | E83: =IF(OR(C83="",D83=""),"",CHOOSE(SIGN(((D83="ĮGYVENDINTA")*2+(D83="TOBULINTINA"))-((C83="ĮGYVENDINTA")*2+(C83="TOBULINTINA")))+2,"▼","=","▲"))
B84: Vykdoma psichoaktyviųjų medžiagų vartojimo prevencija. | C84: =IFERROR(INDEX(paieska!$C$1:$C$600,MATCH(LEFT(SUBSTITUTE(SUBSTITUTE(SUBSTITUTE(SUBSTITUTE($B84,CHAR(10),""),CHAR(13),"")," ",""),CHAR(160),""),80),paieska!$A$1:$A$600,0)),IFERROR(INDEX(paieska!$C$1:$C$600,MATCH(LEFT(SUBSTITUTE(SUBSTITUTE(SUBSTITUTE(SUBSTITUTE($B84,CHAR(10),""),CHAR(13),"")," ",""),CHAR(160),""),80),paieska!$B$1:$B$600,0)),"")) | E84: =IF(OR(C84="",D84=""),"",CHOOSE(SIGN(((D84="ĮGYVENDINTA")*2+(D84="TOBULINTINA"))-((C84="ĮGYVENDINTA")*2+(C84="TOBULINTINA")))+2,"▼","=","▲"))
B85: Aiškūs bendruomenės susitarimai dėl medijų naudojimo tarpusavio bendravime. Mokykla aktyvi „Draugiško interneto“ programose. | C85: =IFERROR(INDEX(paieska!$C$1:$C$600,MATCH(LEFT(SUBSTITUTE(SUBSTITUTE(SUBSTITUTE(SUBSTITUTE($B85,CHAR(10),""),CHAR(13),"")," ",""),CHAR(160),""),80),paieska!$A$1:$A$600,0)),IFERROR(INDEX(paieska!$C$1:$C$600,MATCH(LEFT(SUBSTITUTE(SUBSTITUTE(SUBSTITUTE(SUBSTITUTE($B85,CHAR(10),""),CHAR(13),"")," ",""),CHAR(160),""),80),paieska!$B$1:$B$600,0)),"")) | E85: =IF(OR(C85="",D85=""),"",CHOOSE(SIGN(((D85="ĮGYVENDINTA")*2+(D85="TOBULINTINA"))-((C85="ĮGYVENDINTA")*2+(C85="TOBULINTINA")))+2,"▼","=","▲"))
B86: Naudojamos uniformos yra neutralios lyčių atžvilgiu arba yra galimybė pasirinkti, kokias uniformos kombinacijas dėvėti, taip leidžiant visiems mokiniams rengtis neribojant jų lyties raiškos. | C86: =IFERROR(INDEX(paieska!$C$1:$C$600,MATCH(LEFT(SUBSTITUTE(SUBSTITUTE(SUBSTITUTE(SUBSTITUTE($B86,CHAR(10),""),CHAR(13),"")," ",""),CHAR(160),""),80),paieska!$A$1:$A$600,0)),IFERROR(INDEX(paieska!$C$1:$C$600,MATCH(LEFT(SUBSTITUTE(SUBSTITUTE(SUBSTITUTE(SUBSTITUTE($B86,CHAR(10),""),CHAR(13),"")," ",""),CHAR(160),""),80),paieska!$B$1:$B$600,0)),"")) | E86: =IF(OR(C86="",D86=""),"",CHOOSE(SIGN(((D86="ĮGYVENDINTA")*2+(D86="TOBULINTINA"))-((C86="ĮGYVENDINTA")*2+(C86="TOBULINTINA")))+2,"▼","=","▲"))
B87: Sukurta terpė laisvai mokinių ir mokytojų meninei, emocinei ir asmeninei saviraiškai (erdvės freskoms, mokinių televizija/ radijas, virtuali erdvė ir kt.). | C87: =IFERROR(INDEX(paieska!$C$1:$C$600,MATCH(LEFT(SUBSTITUTE(SUBSTITUTE(SUBSTITUTE(SUBSTITUTE($B87,CHAR(10),""),CHAR(13),"")," ",""),CHAR(160),""),80),paieska!$A$1:$A$600,0)),IFERROR(INDEX(paieska!$C$1:$C$600,MATCH(LEFT(SUBSTITUTE(SUBSTITUTE(SUBSTITUTE(SUBSTITUTE($B87,CHAR(10),""),CHAR(13),"")," ",""),CHAR(160),""),80),paieska!$B$1:$B$600,0)),"")) | E87: =IF(OR(C87="",D87=""),"",CHOOSE(SIGN(((D87="ĮGYVENDINTA")*2+(D87="TOBULINTINA"))-((C87="ĮGYVENDINTA")*2+(C87="TOBULINTINA")))+2,"▼","=","▲"))
B88: Sukurta mokinių savivaldos struktūra ir infrastruktūra, suteiktos patalpos mokinių atstovybėms. | C88: =IFERROR(INDEX(paieska!$C$1:$C$600,MATCH(LEFT(SUBSTITUTE(SUBSTITUTE(SUBSTITUTE(SUBSTITUTE($B88,CHAR(10),""),CHAR(13),"")," ",""),CHAR(160),""),80),paieska!$A$1:$A$600,0)),IFERROR(INDEX(paieska!$C$1:$C$600,MATCH(LEFT(SUBSTITUTE(SUBSTITUTE(SUBSTITUTE(SUBSTITUTE($B88,CHAR(10),""),CHAR(13),"")," ",""),CHAR(160),""),80),paieska!$B$1:$B$600,0)),"")) | E88: =IF(OR(C88="",D88=""),"",CHOOSE(SIGN(((D88="ĮGYVENDINTA")*2+(D88="TOBULINTINA"))-((C88="ĮGYVENDINTA")*2+(C88="TOBULINTINA")))+2,"▼","=","▲"))
B89: Veikia idėjų ir pasiūlymų dalijimosi platforma (grįžtamojo ryšio dėžutė arba lenta, internetinės apklausos, programėlės). | C89: =IFERROR(INDEX(paieska!$C$1:$C$600,MATCH(LEFT(SUBSTITUTE(SUBSTITUTE(SUBSTITUTE(SUBSTITUTE($B89,CHAR(10),""),CHAR(13),"")," ",""),CHAR(160),""),80),paieska!$A$1:$A$600,0)),IFERROR(INDEX(paieska!$C$1:$C$600,MATCH(LEFT(SUBSTITUTE(SUBSTITUTE(SUBSTITUTE(SUBSTITUTE($B89,CHAR(10),""),CHAR(13),"")," ",""),CHAR(160),""),80),paieska!$B$1:$B$600,0)),"")) | E89: =IF(OR(C89="",D89=""),"",CHOOSE(SIGN(((D89="ĮGYVENDINTA")*2+(D89="TOBULINTINA"))-((C89="ĮGYVENDINTA")*2+(C89="TOBULINTINA")))+2,"▼","=","▲"))
A90: 3 kriterijus: KITI MOKYKLOS BENDRUOMENĖS ĮTRAUKIMO RODIKLIAI
B91: Mokykla inicijuoja ir kuria unikalias, savo aplinkai pritaikytas bendruomenės įtraukimo priemones. | C91: =IFERROR(INDEX(paieska!$C$1:$C$600,MATCH(LEFT(SUBSTITUTE(SUBSTITUTE(SUBSTITUTE(SUBSTITUTE($B91,CHAR(10),""),CHAR(13),"")," ",""),CHAR(160),""),80),paieska!$A$1:$A$600,0)),IFERROR(INDEX(paieska!$C$1:$C$600,MATCH(LEFT(SUBSTITUTE(SUBSTITUTE(SUBSTITUTE(SUBSTITUTE($B91,CHAR(10),""),CHAR(13),"")," ",""),CHAR(160),""),80),paieska!$B$1:$B$600,0)),"")) | E91: =IF(OR(C91="",D91=""),"",CHOOSE(SIGN(((D91="ĮGYVENDINTA")*2+(D91="TOBULINTINA"))-((C91="ĮGYVENDINTA")*2+(C91="TOBULINTINA")))+2,"▼","=","▲"))
A92: 4 sritis. Kultūros ir gamtos paveldas | C92: 2024 m. statusas | D92: 2026 m. statusas | E92: Pokytis
A93: 1 kriterijus: KULTŪRŲ ĮVAIROVĖ
B94: Identifikuojamos bendruomenės kultūrinės skirtybės, joms pritaikoma aplinka ir veiklos. | C94: =IFERROR(INDEX(paieska!$C$1:$C$600,MATCH(LEFT(SUBSTITUTE(SUBSTITUTE(SUBSTITUTE(SUBSTITUTE($B94,CHAR(10),""),CHAR(13),"")," ",""),CHAR(160),""),80),paieska!$A$1:$A$600,0)),IFERROR(INDEX(paieska!$C$1:$C$600,MATCH(LEFT(SUBSTITUTE(SUBSTITUTE(SUBSTITUTE(SUBSTITUTE($B94,CHAR(10),""),CHAR(13),"")," ",""),CHAR(160),""),80),paieska!$B$1:$B$600,0)),"")) | E94: =IF(OR(C94="",D94=""),"",CHOOSE(SIGN(((D94="ĮGYVENDINTA")*2+(D94="TOBULINTINA"))-((C94="ĮGYVENDINTA")*2+(C94="TOBULINTINA")))+2,"▼","=","▲"))
B95: Bibliotekose, muziejuose ir kitose erdvėse pristatoma ir eksponuojama kultūrų įvairovė bei tradicijos. | C95: =IFERROR(INDEX(paieska!$C$1:$C$600,MATCH(LEFT(SUBSTITUTE(SUBSTITUTE(SUBSTITUTE(SUBSTITUTE($B95,CHAR(10),""),CHAR(13),"")," ",""),CHAR(160),""),80),paieska!$A$1:$A$600,0)),IFERROR(INDEX(paieska!$C$1:$C$600,MATCH(LEFT(SUBSTITUTE(SUBSTITUTE(SUBSTITUTE(SUBSTITUTE($B95,CHAR(10),""),CHAR(13),"")," ",""),CHAR(160),""),80),paieska!$B$1:$B$600,0)),"")) | E95: =IF(OR(C95="",D95=""),"",CHOOSE(SIGN(((D95="ĮGYVENDINTA")*2+(D95="TOBULINTINA"))-((C95="ĮGYVENDINTA")*2+(C95="TOBULINTINA")))+2,"▼","=","▲"))
B96: Sudaryta galimybė mokiniams bendradarbiauti ir bendrauti su mokiniais iš kitų valstybių, mainų programose, tarptautiniuose projektuose. | C96: =IFERROR(INDEX(paieska!$C$1:$C$600,MATCH(LEFT(SUBSTITUTE(SUBSTITUTE(SUBSTITUTE(SUBSTITUTE($B96,CHAR(10),""),CHAR(13),"")," ",""),CHAR(160),""),80),paieska!$A$1:$A$600,0)),IFERROR(INDEX(paieska!$C$1:$C$600,MATCH(LEFT(SUBSTITUTE(SUBSTITUTE(SUBSTITUTE(SUBSTITUTE($B96,CHAR(10),""),CHAR(13),"")," ",""),CHAR(160),""),80),paieska!$B$1:$B$600,0)),"")) | E96: =IF(OR(C96="",D96=""),"",CHOOSE(SIGN(((D96="ĮGYVENDINTA")*2+(D96="TOBULINTINA"))-((C96="ĮGYVENDINTA")*2+(C96="TOBULINTINA")))+2,"▼","=","▲"))
B97: Maitinime atspindima mokinių kultūrinė įvairovė, įvairios mitybos tradicijos ir pageidavimai. Rengiamos skirtingos mitybos kultūros meniu dienos, siūlomi tradiciniai patiekalai. | C97: =IFERROR(INDEX(paieska!$C$1:$C$600,MATCH(LEFT(SUBSTITUTE(SUBSTITUTE(SUBSTITUTE(SUBSTITUTE($B97,CHAR(10),""),CHAR(13),"")," ",""),CHAR(160),""),80),paieska!$A$1:$A$600,0)),IFERROR(INDEX(paieska!$C$1:$C$600,MATCH(LEFT(SUBSTITUTE(SUBSTITUTE(SUBSTITUTE(SUBSTITUTE($B97,CHAR(10),""),CHAR(13),"")," ",""),CHAR(160),""),80),paieska!$B$1:$B$600,0)),"")) | E97: =IF(OR(C97="",D97=""),"",CHOOSE(SIGN(((D97="ĮGYVENDINTA")*2+(D97="TOBULINTINA"))-((C97="ĮGYVENDINTA")*2+(C97="TOBULINTINA")))+2,"▼","=","▲"))
A98: 2 kriterijus: BIOLOGINĖ ĮVAIROVĖ
B99: Dalis mokyklos teritorijos palikta laukinei gamtai (nešienaujamos pievos gabalėlis, negyva mediena ir t.t.). Identifikuojami biologinei įvairovei vertingiausi teritorijos elementai. | C99: =IFERROR(INDEX(paieska!$C$1:$C$600,MATCH(LEFT(SUBSTITUTE(SUBSTITUTE(SUBSTITUTE(SUBSTITUTE($B99,CHAR(10),""),CHAR(13),"")," ",""),CHAR(160),""),80),paieska!$A$1:$A$600,0)),IFERROR(INDEX(paieska!$C$1:$C$600,MATCH(LEFT(SUBSTITUTE(SUBSTITUTE(SUBSTITUTE(SUBSTITUTE($B99,CHAR(10),""),CHAR(13),"")," ",""),CHAR(160),""),80),paieska!$B$1:$B$600,0)),"")) | E99: =IF(OR(C99="",D99=""),"",CHOOSE(SIGN(((D99="ĮGYVENDINTA")*2+(D99="TOBULINTINA"))-((C99="ĮGYVENDINTA")*2+(C99="TOBULINTINA")))+2,"▼","=","▲"))
B100: Įrengtos biologinę įvairovę skatinančios priemonės (inkilai paukščiams ir šikšnosparniams, apdulkintojų sodai, vabzdžių viešbučiai, ornitochoriniai sodai ir kt.), įrengti informaciniai stendai, mokiniams suteikiamos stebėjimo priemonės (žiūronai, mikroskopai ir t.t.). | C100: =IFERROR(INDEX(paieska!$C$1:$C$600,MATCH(LEFT(SUBSTITUTE(SUBSTITUTE(SUBSTITUTE(SUBSTITUTE($B100,CHAR(10),""),CHAR(13),"")," ",""),CHAR(160),""),80),paieska!$A$1:$A$600,0)),IFERROR(INDEX(paieska!$C$1:$C$600,MATCH(LEFT(SUBSTITUTE(SUBSTITUTE(SUBSTITUTE(SUBSTITUTE($B100,CHAR(10),""),CHAR(13),"")," ",""),CHAR(160),""),80),paieska!$B$1:$B$600,0)),"")) | E100: =IF(OR(C100="",D100=""),"",CHOOSE(SIGN(((D100="ĮGYVENDINTA")*2+(D100="TOBULINTINA"))-((C100="ĮGYVENDINTA")*2+(C100="TOBULINTINA")))+2,"▼","=","▲"))
...

Sheet 2024 m. duomenys
A1: ČIA ĮKLIJUOKITE SAVO 2024 M. ĮSIVERTINIMO LENTELĘ
A3: 1. Atidarykite savo 2024 m. užpildytą įsivertinimo failą, lapą „Įsivertinimo lapas“.
A4: 2. Spustelėkite kairįjį viršutinį kampą (arba Ctrl+A) ir nukopijuokite (Ctrl+C).
A5: 3. Grįžkite į šį lapą, spustelėkite langelį A1 ir įklijuokite (Ctrl+V). Šis tekstas bus perrašytas – taip ir turi būti.
A6: 4. Lape „Įsivertinimo lapas“ stulpelis C (2024 m.) užsipildys automatiškai.
A7: Jei kurio nors rodiklio 2024 m. statusas neatsirado (pvz., pasikeitė rodiklio formuluotė) – pasirinkite jį ranka iš sąrašo stulpelyje C.
A8: Jei 2024 m. failo neturite – šio lapo nereikia, 2024 m. statusus galite pasirinkti ranka.

Sheet paieska
A1: =IFERROR(LEFT(SUBSTITUTE(SUBSTITUTE(SUBSTITUTE(SUBSTITUTE(INDIRECT("'2024 m. duomenys'!B"&ROW())&"",CHAR(10),""),CHAR(13),"")," ",""),CHAR(160),""),80),"") | B1: =IFERROR(LEFT(SUBSTITUTE(SUBSTITUTE(SUBSTITUTE(SUBSTITUTE(INDIRECT("'2024 m. duomenys'!B"&ROW())&"",CHAR(10),""),CHAR(13),"")," ",""),CHAR(160),"")&SUBSTITUTE(SUBSTITUTE(SUBSTITUTE(SUBSTITUTE(INDIRECT("'2024 m. duomenys'!B"&(ROW()+1))&"",CHAR(10),""),CHAR(13),"")," ",""),CHAR(160),""),80),"") | C1: =IFERROR(INDIRECT("'2024 m. duomenys'!C"&ROW())&"","")
A2: =IFERROR(LEFT(SUBSTITUTE(SUBSTITUTE(SUBSTITUTE(SUBSTITUTE(INDIRECT("'2024 m. duomenys'!B"&ROW())&"",CHAR(10),""),CHAR(13),"")," ",""),CHAR(160),""),80),"") | B2: =IFERROR(LEFT(SUBSTITUTE(SUBSTITUTE(SUBSTITUTE(SUBSTITUTE(INDIRECT("'2024 m. duomenys'!B"&ROW())&"",CHAR(10),""),CHAR(13),"")," ",""),CHAR(160),"")&SUBSTITUTE(SUBSTITUTE(SUBSTITUTE(SUBSTITUTE(INDIRECT("'2024 m. duomenys'!B"&(ROW()+1))&"",CHAR(10),""),CHAR(13),"")," ",""),CHAR(160),""),80),"") | C2: =IFERROR(INDIRECT("'2024 m. duomenys'!C"&ROW())&"","")
A3: =IFERROR(LEFT(SUBSTITUTE(SUBSTITUTE(SUBSTITUTE(SUBSTITUTE(INDIRECT("'2024 m. duomenys'!B"&ROW())&"",CHAR(10),""),CHAR(13),"")," ",""),CHAR(160),""),80),"") | B3: =IFERROR(LEFT(SUBSTITUTE(SUBSTITUTE(SUBSTITUTE(SUBSTITUTE(INDIRECT("'2024 m. duomenys'!B"&ROW())&"",CHAR(10),""),CHAR(13),"")," ",""),CHAR(160),"")&SUBSTITUTE(SUBSTITUTE(SUBSTITUTE(SUBSTITUTE(INDIRECT("'2024 m. duomenys'!B"&(ROW()+1))&"",CHAR(10),""),CHAR(13),"")," ",""),CHAR(160),""),80),"") | C3: =IFERROR(INDIRECT("'2024 m. duomenys'!C"&ROW())&"","")
A4: =IFERROR(LEFT(SUBSTITUTE(SUBSTITUTE(SUBSTITUTE(SUBSTITUTE(INDIRECT("'2024 m. duomenys'!B"&ROW())&"",CHAR(10),""),CHAR(13),"")," ",""),CHAR(160),""),80),"") | B4: =IFERROR(LEFT(SUBSTITUTE(SUBSTITUTE(SUBSTITUTE(SUBSTITUTE(INDIRECT("'2024 m. duomenys'!B"&ROW())&"",CHAR(10),""),CHAR(13),"")," ",""),CHAR(160),"")&SUBSTITUTE(SUBSTITUTE(SUBSTITUTE(SUBSTITUTE(INDIRECT("'2024 m. duomenys'!B"&(ROW()+1))&"",CHAR(10),""),CHAR(13),"")," ",""),CHAR(160),""),80),"") | C4: =IFERROR(INDIRECT("'2024 m. duomenys'!C"&ROW())&"","")
A5: =IFERROR(LEFT(SUBSTITUTE(SUBSTITUTE(SUBSTITUTE(SUBSTITUTE(INDIRECT("'2024 m. duomenys'!B"&ROW())&"",CHAR(10),""),CHAR(13),"")," ",""),CHAR(160),""),80),"") | B5: =IFERROR(LEFT(SUBSTITUTE(SUBSTITUTE(SUBSTITUTE(SUBSTITUTE(INDIRECT("'2024 m. duomenys'!B"&ROW())&"",CHAR(10),""),CHAR(13),"")," ",""),CHAR(160),"")&SUBSTITUTE(SUBSTITUTE(SUBSTITUTE(SUBSTITUTE(INDIRECT("'2024 m. duomenys'!B"&(ROW()+1))&"",CHAR(10),""),CHAR(13),"")," ",""),CHAR(160),""),80),"") | C5: =IFERROR(INDIRECT("'2024 m. duomenys'!C"&ROW())&"","")
A6: =IFERROR(LEFT(SUBSTITUTE(SUBSTITUTE(SUBSTITUTE(SUBSTITUTE(INDIRECT("'2024 m. duomenys'!B"&ROW())&"",CHAR(10),""),CHAR(13),"")," ",""),CHAR(160),""),80),"") | B6: =IFERROR(LEFT(SUBSTITUTE(SUBSTITUTE(SUBSTITUTE(SUBSTITUTE(INDIRECT("'2024 m. duomenys'!B"&ROW())&"",CHAR(10),""),CHAR(13),"")," ",""),CHAR(160),"")&SUBSTITUTE(SUBSTITUTE(SUBSTITUTE(SUBSTITUTE(INDIRECT("'2024 m. duomenys'!B"&(ROW()+1))&"",CHAR(10),""),CHAR(13),"")," ",""),CHAR(160),""),80),"") | C6: =IFERROR(INDIRECT("'2024 m. duomenys'!C"&ROW())&"","")
A7: =IFERROR(LEFT(SUBSTITUTE(SUBSTITUTE(SUBSTITUTE(SUBSTITUTE(INDIRECT("'2024 m. duomenys'!B"&ROW())&"",CHAR(10),""),CHAR(13),"")," ",""),CHAR(160),""),80),"") | B7: =IFERROR(LEFT(SUBSTITUTE(SUBSTITUTE(SUBSTITUTE(SUBSTITUTE(INDIRECT("'2024 m. duomenys'!B"&ROW())&"",CHAR(10),""),CHAR(13),"")," ",""),CHAR(160),"")&SUBSTITUTE(SUBSTITUTE(SUBSTITUTE(SUBSTITUTE(INDIRECT("'2024 m. duomenys'!B"&(ROW()+1))&"",CHAR(10),""),CHAR(13),"")," ",""),CHAR(160),""),80),"") | C7: =IFERROR(INDIRECT("'2024 m. duomenys'!C"&ROW())&"","")
A8: =IFERROR(LEFT(SUBSTITUTE(SUBSTITUTE(SUBSTITUTE(SUBSTITUTE(INDIRECT("'2024 m. duomenys'!B"&ROW())&"",CHAR(10),""),CHAR(13),"")," ",""),CHAR(160),""),80),"") | B8: =IFERROR(LEFT(SUBSTITUTE(SUBSTITUTE(SUBSTITUTE(SUBSTITUTE(INDIRECT("'2024 m. duomenys'!B"&ROW())&"",CHAR(10),""),CHAR(13),"")," ",""),CHAR(160),"")&SUBSTITUTE(SUBSTITUTE(SUBSTITUTE(SUBSTITUTE(INDIRECT("'2024 m. duomenys'!B"&(ROW()+1))&"",CHAR(10),""),CHAR(13),"")," ",""),CHAR(160),""),80),"") | C8: =IFERROR(INDIRECT("'2024 m. duomenys'!C"&ROW())&"","")
A9: =IFERROR(LEFT(SUBSTITUTE(SUBSTITUTE(SUBSTITUTE(SUBSTITUTE(INDIRECT("'2024 m. duomenys'!B"&ROW())&"",CHAR(10),""),CHAR(13),"")," ",""),CHAR(160),""),80),"") | B9: =IFERROR(LEFT(SUBSTITUTE(SUBSTITUTE(SUBSTITUTE(SUBSTITUTE(INDIRECT("'2024 m. duomenys'!B"&ROW())&"",CHAR(10),""),CHAR(13),"")," ",""),CHAR(160),"")&SUBSTITUTE(SUBSTITUTE(SUBSTITUTE(SUBSTITUTE(INDIRECT("'2024 m. duomenys'!B"&(ROW()+1))&"",CHAR(10),""),CHAR(13),"")," ",""),CHAR(160),""),80),"") | C9: =IFERROR(INDIRECT("'2024 m. duomenys'!C"&ROW())&"","")
A10: =IFERROR(LEFT(SUBSTITUTE(SUBSTITUTE(SUBSTITUTE(SUBSTITUTE(INDIRECT("'2024 m. duomenys'!B"&ROW())&"",CHAR(10),""),CHAR(13),"")," ",""),CHAR(160),""),80),"") | B10: =IFERROR(LEFT(SUBSTITUTE(SUBSTITUTE(SUBSTITUTE(SUBSTITUTE(INDIRECT("'2024 m. duomenys'!B"&ROW())&"",CHAR(10),""),CHAR(13),"")," ",""),CHAR(160),"")&SUBSTITUTE(SUBSTITUTE(SUBSTITUTE(SUBSTITUTE(INDIRECT("'2024 m. duomenys'!B"&(ROW()+1))&"",CHAR(10),""),CHAR(13),"")," ",""),CHAR(160),""),80),"") | C10: =IFERROR(INDIRECT("'2024 m. duomenys'!C"&ROW())&"","")
A11: =IFERROR(LEFT(SUBSTITUTE(SUBSTITUTE(SUBSTITUTE(SUBSTITUTE(INDIRECT("'2024 m. duomenys'!B"&ROW())&"",CHAR(10),""),CHAR(13),"")," ",""),CHAR(160),""),80),"") | B11: =IFERROR(LEFT(SUBSTITUTE(SUBSTITUTE(SUBSTITUTE(SUBSTITUTE(INDIRECT("'2024 m. duomenys'!B"&ROW())&"",CHAR(10),""),CHAR(13),"")," ",""),CHAR(160),"")&SUBSTITUTE(SUBSTITUTE(SUBSTITUTE(SUBSTITUTE(INDIRECT("'2024 m. duomenys'!B"&(ROW()+1))&"",CHAR(10),""),CHAR(13),"")," ",""),CHAR(160),""),80),"") | C11: =IFERROR(INDIRECT("'2024 m. duomenys'!C"&ROW())&"","")
A12: =IFERROR(LEFT(SUBSTITUTE(SUBSTITUTE(SUBSTITUTE(SUBSTITUTE(INDIRECT("'2024 m. duomenys'!B"&ROW())&"",CHAR(10),""),CHAR(13),"")," ",""),CHAR(160),""),80),"") | B12: =IFERROR(LEFT(SUBSTITUTE(SUBSTITUTE(SUBSTITUTE(SUBSTITUTE(INDIRECT("'2024 m. duomenys'!B"&ROW())&"",CHAR(10),""),CHAR(13),"")," ",""),CHAR(160),"")&SUBSTITUTE(SUBSTITUTE(SUBSTITUTE(SUBSTITUTE(INDIRECT("'2024 m. duomenys'!B"&(ROW()+1))&"",CHAR(10),""),CHAR(13),"")," ",""),CHAR(160),""),80),"") | C12: =IFERROR(INDIRECT("'2024 m. duomenys'!C"&ROW())&"","")
... A600: =IFERROR(LEFT(SUBSTITUTE(SUBSTITUTE(SUBSTITUTE(SUBSTITUTE(INDIRECT("'2024 m. duomenys'!B"&ROW())&"",CHAR(10),""),CHAR(13),"")," ",""),CHAR(160),""),80),"") | B600: =IFERROR(LEFT(SUBSTITUTE(SUBSTITUTE(SUBSTITUTE(SUBSTITUTE(INDIRECT("'2024 m. duomenys'!B"&ROW())&"",CHAR(10),""),CHAR(13),"")," ",""),CHAR(160),"")&SUBSTITUTE(SUBSTITUTE(SUBSTITUTE(SUBSTITUTE(INDIRECT("'2024 m. duomenys'!B"&(ROW()+1))&"",CHAR(10),""),CHAR(13),"")," ",""),CHAR(160),""),80),"") | C600: =IFERROR(INDIRECT("'2024 m. duomenys'!C"&ROW())&"","")
